BEGIN:VCALENDAR
VERSION:2.0
PRODID:-//Asheville Habitat for Humanity - ECPv6.15.18//NONSGML v1.0//EN
CALSCALE:GREGORIAN
METHOD:PUBLISH
X-WR-CALNAME:Asheville Habitat for Humanity
X-ORIGINAL-URL:https://www.ashevillehabitat.org
X-WR-CALDESC:Events for Asheville Habitat for Humanity
REFRESH-INTERVAL;VALUE=DURATION:PT1H
X-Robots-Tag:noindex
X-PUBLISHED-TTL:PT1H
BEGIN:VTIMEZONE
TZID:America/New_York
BEGIN:DAYLIGHT
TZOFFSETFROM:-0500
TZOFFSETTO:-0400
TZNAME:EDT
DTSTART:20240310T070000
END:DAYLIGHT
BEGIN:STANDARD
TZOFFSETFROM:-0400
TZOFFSETTO:-0500
TZNAME:EST
DTSTART:20241103T060000
END:STANDARD
BEGIN:DAYLIGHT
TZOFFSETFROM:-0500
TZOFFSETTO:-0400
TZNAME:EDT
DTSTART:20250309T070000
END:DAYLIGHT
BEGIN:STANDARD
TZOFFSETFROM:-0400
TZOFFSETTO:-0500
TZNAME:EST
DTSTART:20251102T060000
END:STANDARD
BEGIN:DAYLIGHT
TZOFFSETFROM:-0500
TZOFFSETTO:-0400
TZNAME:EDT
DTSTART:20260308T070000
END:DAYLIGHT
BEGIN:STANDARD
TZOFFSETFROM:-0400
TZOFFSETTO:-0500
TZNAME:EST
DTSTART:20261101T060000
END:STANDARD
END:VTIMEZONE
BEGIN:VEVENT
DTSTART;TZID=America/New_York:20250816T100000
DTEND;TZID=America/New_York:20250816T180000
DTSTAMP:20260425T112356
CREATED:20250725T161303Z
LAST-MODIFIED:20250725T161303Z
UID:10000249-1755338400-1755367200@www.ashevillehabitat.org
SUMMARY:Weaverville ReStore 6th Anniversary Sale
DESCRIPTION:The Weaverville ReStore celebrates its 6th anniversary on Saturday\, August 16th — and you’re invited! Join us as we celebrate with a storewide sale and get 25% off furniture\, housewares\, electronics\, building supplies\, media and more while supporting Asheville Habitat’s building and repair programs with your purchases.
URL:https://www.ashevillehabitat.org/event/weaverville-restore-6th-anniversary-sale/
LOCATION:Weaverville Habitat ReStore\, 61 Weaver Blvd.\, Weaverville\, NC\, 28787
CATEGORIES:ReStore,Sale
END:VEVENT
END:VCALENDAR