BEGIN:VCALENDAR
VERSION:2.0
PRODID:-//Asheville Habitat for Humanity - ECPv6.15.18//NONSGML v1.0//EN
CALSCALE:GREGORIAN
METHOD:PUBLISH
X-ORIGINAL-URL:https://www.ashevillehabitat.org
X-WR-CALDESC:Events for Asheville Habitat for Humanity
REFRESH-INTERVAL;VALUE=DURATION:PT1H
X-Robots-Tag:noindex
X-PUBLISHED-TTL:PT1H
BEGIN:VTIMEZONE
TZID:America/New_York
BEGIN:DAYLIGHT
TZOFFSETFROM:-0500
TZOFFSETTO:-0400
TZNAME:EDT
DTSTART:20240310T070000
END:DAYLIGHT
BEGIN:STANDARD
TZOFFSETFROM:-0400
TZOFFSETTO:-0500
TZNAME:EST
DTSTART:20241103T060000
END:STANDARD
BEGIN:DAYLIGHT
TZOFFSETFROM:-0500
TZOFFSETTO:-0400
TZNAME:EDT
DTSTART:20250309T070000
END:DAYLIGHT
BEGIN:STANDARD
TZOFFSETFROM:-0400
TZOFFSETTO:-0500
TZNAME:EST
DTSTART:20251102T060000
END:STANDARD
BEGIN:DAYLIGHT
TZOFFSETFROM:-0500
TZOFFSETTO:-0400
TZNAME:EDT
DTSTART:20260308T070000
END:DAYLIGHT
BEGIN:STANDARD
TZOFFSETFROM:-0400
TZOFFSETTO:-0500
TZNAME:EST
DTSTART:20261101T060000
END:STANDARD
END:VTIMEZONE
BEGIN:VEVENT
DTSTART;TZID=America/New_York:20250618T190000
DTEND;TZID=America/New_York:20250618T230000
DTSTAMP:20260425T001423
CREATED:20250527T201015Z
LAST-MODIFIED:20250527T201015Z
UID:10000247-1750273200-1750287600@www.ashevillehabitat.org
SUMMARY:A Blues & Soul Celebration
DESCRIPTION:A Blues & Soul Celebration for Asheville Area Habitat for Humanity and LEAF Global Arts\, featuring Melissa McKinney’s band MAMA\, Mad Dog Blues Band\, and Eric Freeman – yes\, please! \nThis Mercy in the Mountains hurricane benefit show will be held at The Grey Eagle on Wednesday\, June 18th. We hope to see you there! \nLearn more and buy tickets here. \n 
URL:https://www.ashevillehabitat.org/event/a-blues-soul-celebration/
LOCATION:The Grey Eagle\, 185 Clingman Ave\, Asheville\, NC\, 28801\, United States
CATEGORIES:Benefit,Public Event
END:VEVENT
END:VCALENDAR