BEGIN:VCALENDAR
VERSION:2.0
PRODID:-//Asheville Habitat for Humanity - ECPv6.15.18//NONSGML v1.0//EN
CALSCALE:GREGORIAN
METHOD:PUBLISH
X-ORIGINAL-URL:https://www.ashevillehabitat.org
X-WR-CALDESC:Events for Asheville Habitat for Humanity
REFRESH-INTERVAL;VALUE=DURATION:PT1H
X-Robots-Tag:noindex
X-PUBLISHED-TTL:PT1H
BEGIN:VTIMEZONE
TZID:America/New_York
BEGIN:DAYLIGHT
TZOFFSETFROM:-0500
TZOFFSETTO:-0400
TZNAME:EDT
DTSTART:20240310T070000
END:DAYLIGHT
BEGIN:STANDARD
TZOFFSETFROM:-0400
TZOFFSETTO:-0500
TZNAME:EST
DTSTART:20241103T060000
END:STANDARD
BEGIN:DAYLIGHT
TZOFFSETFROM:-0500
TZOFFSETTO:-0400
TZNAME:EDT
DTSTART:20250309T070000
END:DAYLIGHT
BEGIN:STANDARD
TZOFFSETFROM:-0400
TZOFFSETTO:-0500
TZNAME:EST
DTSTART:20251102T060000
END:STANDARD
BEGIN:DAYLIGHT
TZOFFSETFROM:-0500
TZOFFSETTO:-0400
TZNAME:EDT
DTSTART:20260308T070000
END:DAYLIGHT
BEGIN:STANDARD
TZOFFSETFROM:-0400
TZOFFSETTO:-0500
TZNAME:EST
DTSTART:20261101T060000
END:STANDARD
END:VTIMEZONE
BEGIN:VEVENT
DTSTART;TZID=America/New_York:20250612T150000
DTEND;TZID=America/New_York:20250612T160000
DTSTAMP:20260424T223553
CREATED:20250527T203224Z
LAST-MODIFIED:20250527T203345Z
UID:10000248-1749740400-1749744000@www.ashevillehabitat.org
SUMMARY:2 House Dedication
DESCRIPTION:Join us on June 12th at 3pm for a dedication of two new homes in our Glenn Bridge neighborhood in Arden. Along with sponsors\, volunteers and other community well-wishers\, help us welcome the Searles and Wayne Thomas & Regeina Major families HOME!
URL:https://www.ashevillehabitat.org/event/2-house-dedication/
LOCATION:904 Glenn Bridge Rd SE\, Arden\, NC 28704\, 904 Glenn Bridge Rd SE\, Arden\, NC\, 28704
CATEGORIES:Key Presentation
END:VEVENT
END:VCALENDAR