BEGIN:VCALENDAR
VERSION:2.0
PRODID:-//Asheville Habitat for Humanity - ECPv6.15.18//NONSGML v1.0//EN
CALSCALE:GREGORIAN
METHOD:PUBLISH
X-ORIGINAL-URL:https://www.ashevillehabitat.org
X-WR-CALDESC:Events for Asheville Habitat for Humanity
REFRESH-INTERVAL;VALUE=DURATION:PT1H
X-Robots-Tag:noindex
X-PUBLISHED-TTL:PT1H
BEGIN:VTIMEZONE
TZID:America/New_York
BEGIN:DAYLIGHT
TZOFFSETFROM:-0500
TZOFFSETTO:-0400
TZNAME:EDT
DTSTART:20240310T070000
END:DAYLIGHT
BEGIN:STANDARD
TZOFFSETFROM:-0400
TZOFFSETTO:-0500
TZNAME:EST
DTSTART:20241103T060000
END:STANDARD
BEGIN:DAYLIGHT
TZOFFSETFROM:-0500
TZOFFSETTO:-0400
TZNAME:EDT
DTSTART:20250309T070000
END:DAYLIGHT
BEGIN:STANDARD
TZOFFSETFROM:-0400
TZOFFSETTO:-0500
TZNAME:EST
DTSTART:20251102T060000
END:STANDARD
BEGIN:DAYLIGHT
TZOFFSETFROM:-0500
TZOFFSETTO:-0400
TZNAME:EDT
DTSTART:20260308T070000
END:DAYLIGHT
BEGIN:STANDARD
TZOFFSETFROM:-0400
TZOFFSETTO:-0500
TZNAME:EST
DTSTART:20261101T060000
END:STANDARD
END:VTIMEZONE
BEGIN:VEVENT
DTSTART;TZID=America/New_York:20250321T200000
DTEND;TZID=America/New_York:20250321T230000
DTSTAMP:20260424T101143
CREATED:20250203T201138Z
LAST-MODIFIED:20250203T201138Z
UID:10000239-1742587200-1742598000@www.ashevillehabitat.org
SUMMARY:Mercy in the Mountains: Ashes and Arrows w/ Abby Bryant
DESCRIPTION:Come enjoy a great night of music in one of Asheville’s favorite live music venues – for a good cause! This benefit concert for Asheville Area Habitat for Humanity and LEAF Global Arts features Ashes and Arrows\, with Abby Bryant opening. \nTickets on sale now. \nDoors at 7\, show at 8pm.
URL:https://www.ashevillehabitat.org/event/mercy-in-the-mountains-ashes-and-arrows-w-abby-bryant/
LOCATION:The Grey Eagle\, 185 Clingman Ave\, Asheville\, NC\, 28801\, United States
END:VEVENT
END:VCALENDAR