BEGIN:VCALENDAR
VERSION:2.0
PRODID:-//Asheville Habitat for Humanity - ECPv6.15.18//NONSGML v1.0//EN
CALSCALE:GREGORIAN
METHOD:PUBLISH
X-ORIGINAL-URL:https://www.ashevillehabitat.org
X-WR-CALDESC:Events for Asheville Habitat for Humanity
REFRESH-INTERVAL;VALUE=DURATION:PT1H
X-Robots-Tag:noindex
X-PUBLISHED-TTL:PT1H
BEGIN:VTIMEZONE
TZID:America/New_York
BEGIN:DAYLIGHT
TZOFFSETFROM:-0500
TZOFFSETTO:-0400
TZNAME:EDT
DTSTART:20230312T070000
END:DAYLIGHT
BEGIN:STANDARD
TZOFFSETFROM:-0400
TZOFFSETTO:-0500
TZNAME:EST
DTSTART:20231105T060000
END:STANDARD
BEGIN:DAYLIGHT
TZOFFSETFROM:-0500
TZOFFSETTO:-0400
TZNAME:EDT
DTSTART:20240310T070000
END:DAYLIGHT
BEGIN:STANDARD
TZOFFSETFROM:-0400
TZOFFSETTO:-0500
TZNAME:EST
DTSTART:20241103T060000
END:STANDARD
BEGIN:DAYLIGHT
TZOFFSETFROM:-0500
TZOFFSETTO:-0400
TZNAME:EDT
DTSTART:20250309T070000
END:DAYLIGHT
BEGIN:STANDARD
TZOFFSETFROM:-0400
TZOFFSETTO:-0500
TZNAME:EST
DTSTART:20251102T060000
END:STANDARD
END:VTIMEZONE
BEGIN:VEVENT
DTSTART;TZID=America/New_York:20240810T100000
DTEND;TZID=America/New_York:20240810T180000
DTSTAMP:20260425T064711
CREATED:20240730T141337Z
LAST-MODIFIED:20240730T141455Z
UID:10000234-1723284000-1723312800@www.ashevillehabitat.org
SUMMARY:Weaverville ReStore 5th Anniversary Sale
DESCRIPTION:  \nEnjoy the lowest prices of the year on furniture\, housewares\, appliances\, building supplies\, art and more at the Weaverville Habitat ReStore during the annual sale. \n  \nSaturday\, August 10th from 10am to 6pm. Save 25% off storewide + enjoy free hot dogs & soft drinks. Please note: the discount is only applicable in the Weaverville ReStore.     
URL:https://www.ashevillehabitat.org/event/weaverville-restore-5th-anniversary-sale/
LOCATION:Weaverville Habitat ReStore\, 61 Weaver Blvd.\, Weaverville\, NC\, 28787
END:VEVENT
END:VCALENDAR