BEGIN:VCALENDAR
VERSION:2.0
PRODID:-//Asheville Habitat for Humanity - ECPv6.15.18//NONSGML v1.0//EN
CALSCALE:GREGORIAN
METHOD:PUBLISH
X-WR-CALNAME:Asheville Habitat for Humanity
X-ORIGINAL-URL:https://www.ashevillehabitat.org
X-WR-CALDESC:Events for Asheville Habitat for Humanity
REFRESH-INTERVAL;VALUE=DURATION:PT1H
X-Robots-Tag:noindex
X-PUBLISHED-TTL:PT1H
BEGIN:VTIMEZONE
TZID:America/New_York
BEGIN:DAYLIGHT
TZOFFSETFROM:-0500
TZOFFSETTO:-0400
TZNAME:EDT
DTSTART:20210314T070000
END:DAYLIGHT
BEGIN:STANDARD
TZOFFSETFROM:-0400
TZOFFSETTO:-0500
TZNAME:EST
DTSTART:20211107T060000
END:STANDARD
BEGIN:DAYLIGHT
TZOFFSETFROM:-0500
TZOFFSETTO:-0400
TZNAME:EDT
DTSTART:20220313T070000
END:DAYLIGHT
BEGIN:STANDARD
TZOFFSETFROM:-0400
TZOFFSETTO:-0500
TZNAME:EST
DTSTART:20221106T060000
END:STANDARD
BEGIN:DAYLIGHT
TZOFFSETFROM:-0500
TZOFFSETTO:-0400
TZNAME:EDT
DTSTART:20230312T070000
END:DAYLIGHT
BEGIN:STANDARD
TZOFFSETFROM:-0400
TZOFFSETTO:-0500
TZNAME:EST
DTSTART:20231105T060000
END:STANDARD
END:VTIMEZONE
BEGIN:VEVENT
DTSTART;TZID=America/New_York:20221013T173000
DTEND;TZID=America/New_York:20221013T203000
DTSTAMP:20260423T043532
CREATED:20220502T195047Z
LAST-MODIFIED:20220829T180907Z
UID:10000119-1665682200-1665693000@www.ashevillehabitat.org
SUMMARY:Blueprint Breakfast for Dinner
DESCRIPTION:Join us for Blueprint Breakfast FOR DINNER! \nThis exciting event brings together some of Asheville’s best chefs\, all to support the construction of an affordable home in West Asheville. \nTickets includes seven unique plates and two complimentary drinks\, plus music by Firecracker Jazz Band\, cash bar\, door prizes\, and stories from Habitat homeowners. \nSponsorship opportunities available now. Learn more. \nTickets now on sale! Click here to purchase.
URL:https://www.ashevillehabitat.org/event/blueprint-breakfast-for-dinner/
LOCATION:Rabbit Rabbit\, 5 Coxe Ave\, Asheville\, NC\, 28801
CATEGORIES:Benefit,Public Event
END:VEVENT
END:VCALENDAR