BEGIN:VCALENDAR
VERSION:2.0
PRODID:-//Asheville Habitat for Humanity - ECPv6.15.18//NONSGML v1.0//EN
CALSCALE:GREGORIAN
METHOD:PUBLISH
X-WR-CALNAME:Asheville Habitat for Humanity
X-ORIGINAL-URL:https://www.ashevillehabitat.org
X-WR-CALDESC:Events for Asheville Habitat for Humanity
REFRESH-INTERVAL;VALUE=DURATION:PT1H
X-Robots-Tag:noindex
X-PUBLISHED-TTL:PT1H
BEGIN:VTIMEZONE
TZID:UTC
BEGIN:STANDARD
TZOFFSETFROM:+0000
TZOFFSETTO:+0000
TZNAME:UTC
DTSTART:20170101T000000
END:STANDARD
END:VTIMEZONE
BEGIN:VEVENT
DTSTART;VALUE=DATE:20180402
DTEND;VALUE=DATE:20180601
DTSTAMP:20260423T170320
CREATED:20180417T040000Z
LAST-MODIFIED:20181220T160542Z
UID:10000146-1522627200-1527811199@www.ashevillehabitat.org
SUMMARY:Habitat for Humanity International and Chico's partner to support Women Build
DESCRIPTION:Habitat for Humanity International and Chico’s has a partnership for Women Build. \nBetween April 2 and May 31\, $2 from the sale of every Slub Shirt at Chico’s (store locations and online) will be donated to the Habitat for Humanity International’s Women Build campaign \nCelebrate with Asheville Habitat on Thursday\, May 3 at Chico’s in Biltmore Village.  All donations made there that day will be donated locally\, to  our Habitat affliate’s Women Build program.
URL:https://www.ashevillehabitat.org/event/9412/
LOCATION:NC
CATEGORIES:Public Event
END:VEVENT
BEGIN:VEVENT
DTSTART;TZID=UTC:20180518T120000
DTEND;TZID=UTC:20180518T140000
DTSTAMP:20260423T170320
CREATED:20180518T040000Z
LAST-MODIFIED:20181220T160544Z
UID:10000149-1526644800-1526652000@www.ashevillehabitat.org
SUMMARY:A MILESTONE CELEBRATION!
DESCRIPTION:Kickoff & Wall Raising for 3 New Families and House Sponsors:\nFirst Bank \nAvL Technologies Presents AAHH’s 35th Anniversary House \nVoluntourism House with Wells Fargo \n  \nJoin us for a light lunch served at noon followed by a program focusing on our local and global impact and a celebration of three new Habitat families. \n 
URL:https://www.ashevillehabitat.org/event/a-milestone-celebration/
LOCATION:NC
CATEGORIES:Celebration
END:VEVENT
BEGIN:VEVENT
DTSTART;TZID=UTC:20180519T090000
DTEND;TZID=UTC:20180519T180000
DTSTAMP:20260423T170320
CREATED:20180507T040000Z
LAST-MODIFIED:20181220T160544Z
UID:10000148-1526720400-1526752800@www.ashevillehabitat.org
SUMMARY:ReStore Spring Sale
DESCRIPTION:Join us for the best prices of the year at the ReStore + free hot dogs and soft drinks! There’s no better day than Saturday\, May 19th to shop at the Habitat ReStore. It’s our Spring Customer Appreciation Sale and we’re saying thanks to the community by offering 25% off everything in the store!  Whether you’re looking for furniture\, building supplies\, housewares\, books\, appliances\, or antiques\, shop the Habitat ReStore on Saturday\, May 19th to take advantage of the lowest prices of the year. Sale hours are 9am to 6pm and free soft drinks and hot dogs will be available between noon and 2pm.
URL:https://www.ashevillehabitat.org/event/restore-spring-sale-2-2/
LOCATION:Photo-Dec-11-2-57-03-PM-1030×773
CATEGORIES:ReStore,Sale
END:VEVENT
END:VCALENDAR