BEGIN:VCALENDAR
VERSION:2.0
PRODID:-//Asheville Habitat for Humanity - ECPv6.15.18//NONSGML v1.0//EN
CALSCALE:GREGORIAN
METHOD:PUBLISH
X-ORIGINAL-URL:https://www.ashevillehabitat.org
X-WR-CALDESC:Events for Asheville Habitat for Humanity
REFRESH-INTERVAL;VALUE=DURATION:PT1H
X-Robots-Tag:noindex
X-PUBLISHED-TTL:PT1H
BEGIN:VTIMEZONE
TZID:UTC
BEGIN:STANDARD
TZOFFSETFROM:+0000
TZOFFSETTO:+0000
TZNAME:UTC
DTSTART:20160101T000000
END:STANDARD
END:VTIMEZONE
BEGIN:VEVENT
DTSTART;TZID=UTC:20171101T100000
DTEND;TZID=UTC:20171130T180000
DTSTAMP:20260424T181010
CREATED:20171103T040000Z
LAST-MODIFIED:20181220T160534Z
UID:10000138-1509530400-1512064800@www.ashevillehabitat.org
SUMMARY:Second Gear benefits Habitat in November
DESCRIPTION:Second Gear Outdoor Consignment Store has named Asheville Area Habitat for Humanity as their nonprofit partner for the month of November.  1% of November proceeds will be donated to Habitat.  Customers can also choose to have all or part of their consignment proceeds directed to Habitat during November. \nOn Saturday\, November 18th\, come by Second Gear between 11am and 2pm to learn more about the work we do in assisting families in their search for affordable housing and to sign a stud wall that will be built into a Habitat home in Arden.  Neighboring store\, Whist\, will be donating 10% of their sales on event day to AAHH as well! \nShop Second Gear all month long and be sure to stop in on the 18th to meet members of our team. \n 
URL:https://www.ashevillehabitat.org/event/second-gear-benefits-habitat-november/
LOCATION:Nh1
CATEGORIES:Public Event
END:VEVENT
BEGIN:VEVENT
DTSTART;TZID=UTC:20171113T173000
DTEND;TZID=UTC:20171113T220000
DTSTAMP:20260424T181010
CREATED:20171103T040000Z
LAST-MODIFIED:20181220T160534Z
UID:10000140-1510594200-1510610400@www.ashevillehabitat.org
SUMMARY:Hi-Wire Hosts Kick-Off Party For "The House That Beer Built"
DESCRIPTION:Join us for a kick-off party at Hi-Wire Brewing (Biltmore Village location).  A portion of beer sales will be donated to The House That Beer Built\, and will include the Big Top’s usual Monday Burger and Pint Night $12 from Foothills Food Truck. \nGuests are invited to sign a stud wall that will be used in the construction of the house\, and a door prize will be provided by Asheville Habitat. The future homeowners\, the Chrisman family\, will also be in attendance. \nAsheville Area Habitat for Humanity and the Asheville Brewers Alliance (ABA) are excited to partner for The House That Beer Built. This Habitat house will be funded and built by the local brewing community and beer lovers at-large\, with a generous lead gift by the Asheville Brewers Alliance. \nCan’t attend\, but want to support the cause? Simply send a text to 91999 with the Keyword Beer\, Your Name\, Your Donation Amount. (Example: Beer\, $10\, Bill M.). \nTo stay up to date on House That Beer Built events\, click here.
URL:https://www.ashevillehabitat.org/event/hi-wire-hosts-kick-off-party-house-beer-built/
LOCATION:NC
CATEGORIES:Celebration,Public Event
END:VEVENT
BEGIN:VEVENT
DTSTART;TZID=UTC:20171114T110000
DTEND;TZID=UTC:20171114T140000
DTSTAMP:20260424T181010
CREATED:20171114T050000Z
LAST-MODIFIED:20181220T160535Z
UID:10000141-1510657200-1510668000@www.ashevillehabitat.org
SUMMARY:Second Gear In-Store Event
DESCRIPTION:As Second Gear’s November Nonprofit Partner\, Habitat will be having an in-store event on 11/18 from 11am-2pm. \nHabitat staff will be there to share information\, host a stud wall signing and more!  Join us for a fun afternoon and a to support a great cause.  Whist\, neighbor to Second Gear\, will also be donating 10% of sales this day to Habitat. \nFor the month of November\, Second Gear will donate 1% of proceeds to Asheville Habitat. Customers can also choose to have proceeds from all or part of their consignment proceeds directed to Habitat during November.
URL:https://www.ashevillehabitat.org/event/second-gear-store-event/
LOCATION:Nh1
CATEGORIES:Benefit,Celebration,Public Event
END:VEVENT
BEGIN:VEVENT
DTSTART;TZID=UTC:20171115T090000
DTEND;TZID=UTC:20171115T180000
DTSTAMP:20260424T181010
CREATED:20171030T040000Z
LAST-MODIFIED:20181220T160532Z
UID:10000137-1510736400-1510768800@www.ashevillehabitat.org
SUMMARY:America Recycles Day - ReStore Offer
DESCRIPTION:In honor of America Recycles Day\, drop off a donation of unwanted items (in good condition) to the ReStore on Wednesday\, November 15th and receive a 20% off coupon for the ReStore\, valid through November 30.
URL:https://www.ashevillehabitat.org/event/america-recycles-day-restore-offer/
LOCATION:Photo-Dec-11-2-57-03-PM-1030×773
CATEGORIES:Public Event,ReStore
END:VEVENT
BEGIN:VEVENT
DTSTART;TZID=UTC:20171118T100000
DTEND;TZID=UTC:20171118T110000
DTSTAMP:20260424T181010
CREATED:20170912T040000Z
LAST-MODIFIED:20181220T160526Z
UID:10000110-1510999200-1511002800@www.ashevillehabitat.org
SUMMARY:Habitat Homeownership Information Session
DESCRIPTION:Through shelter\, we empower. To learn about Habitat homeownership\, come to the 1-hour info session.  Click here to learn more about our program and to review guidelines: \nhttps://www.ashevillehabitat.org/housing-pro…/homeownership/
URL:https://www.ashevillehabitat.org/event/habitat-homeownership-information-session-15-2/
LOCATION:#3 (4)
CATEGORIES:Info Session,Public Event
END:VEVENT
BEGIN:VEVENT
DTSTART;TZID=UTC:20171118T110000
DTEND;TZID=UTC:20171118T180000
DTSTAMP:20260424T181010
CREATED:20171103T040000Z
LAST-MODIFIED:20181220T160534Z
UID:10000139-1511002800-1511028000@www.ashevillehabitat.org
SUMMARY:Whist to benefit Habitat
DESCRIPTION:Whist is donating 10% of all sales to Asheville Habitat Saturday\, November 18. \nStock up on beautiful paper goods and silly holiday surprises for the whole family\, then visit the Habitat event next door at Second Gear.
URL:https://www.ashevillehabitat.org/event/whist-benefit-habitat/
LOCATION:NC
END:VEVENT
END:VCALENDAR