BEGIN:VCALENDAR
VERSION:2.0
PRODID:-//Asheville Habitat for Humanity - ECPv6.15.18//NONSGML v1.0//EN
CALSCALE:GREGORIAN
METHOD:PUBLISH
X-WR-CALNAME:Asheville Habitat for Humanity
X-ORIGINAL-URL:https://www.ashevillehabitat.org
X-WR-CALDESC:Events for Asheville Habitat for Humanity
REFRESH-INTERVAL;VALUE=DURATION:PT1H
X-Robots-Tag:noindex
X-PUBLISHED-TTL:PT1H
BEGIN:VTIMEZONE
TZID:UTC
BEGIN:STANDARD
TZOFFSETFROM:+0000
TZOFFSETTO:+0000
TZNAME:UTC
DTSTART:20160101T000000
END:STANDARD
END:VTIMEZONE
BEGIN:VEVENT
DTSTART;TZID=UTC:20171007T090000
DTEND;TZID=UTC:20171007T180000
DTSTAMP:20260424T114242
CREATED:20170912T040000Z
LAST-MODIFIED:20181220T160526Z
UID:10000127-1507366800-1507399200@www.ashevillehabitat.org
SUMMARY:Habitat ReStore Fall Sale
DESCRIPTION:25% off store-wide at your Asheville Habitat ReStore.  More details to come! \n 
URL:https://www.ashevillehabitat.org/event/habitat-restore-fall-sale/
LOCATION:Photo-Dec-11-2-57-03-PM-1030×773
CATEGORIES:Public Event,ReStore,Sale
END:VEVENT
END:VCALENDAR