BEGIN:VCALENDAR
VERSION:2.0
PRODID:-//Asheville Habitat for Humanity - ECPv6.15.18//NONSGML v1.0//EN
CALSCALE:GREGORIAN
METHOD:PUBLISH
X-WR-CALNAME:Asheville Habitat for Humanity
X-ORIGINAL-URL:https://www.ashevillehabitat.org
X-WR-CALDESC:Events for Asheville Habitat for Humanity
REFRESH-INTERVAL;VALUE=DURATION:PT1H
X-Robots-Tag:noindex
X-PUBLISHED-TTL:PT1H
BEGIN:VTIMEZONE
TZID:UTC
BEGIN:STANDARD
TZOFFSETFROM:+0000
TZOFFSETTO:+0000
TZNAME:UTC
DTSTART:20160101T000000
END:STANDARD
END:VTIMEZONE
BEGIN:VEVENT
DTSTART;TZID=UTC:20170422T081500
DTEND;TZID=UTC:20170422T153000
DTSTAMP:20260424T224758
CREATED:20170406T040000Z
LAST-MODIFIED:20181220T160520Z
UID:10000109-1492848900-1492875000@www.ashevillehabitat.org
SUMMARY:WNCW Day
DESCRIPTION:This special build day will bring together WNCW staff and listeners for a meaningful day of volunteer work. Come help us build homes and change lives!  No experience is necessary\, just come prepared to work hard and have a great time! Volunteers on the jobsite can expect to help with a number of construction related tasks including: framing walls\, roofing\, siding\, painting\, trim work\, landscaping\, and more. \nSpots are limited and you must sign up in advance. \nPlease click here to learn more and sign up now!
URL:https://www.ashevillehabitat.org/event/wncw-day/
LOCATION:Monkeys Holding The Light
ATTACH;FMTTYPE=image/jpeg:https://www.ashevillehabitat.org/wp-content/uploads/2018/12/WNCW_blue_logo.jpg
END:VEVENT
END:VCALENDAR