BEGIN:VCALENDAR
VERSION:2.0
PRODID:-//Asheville Habitat for Humanity - ECPv6.15.18//NONSGML v1.0//EN
CALSCALE:GREGORIAN
METHOD:PUBLISH
X-WR-CALNAME:Asheville Habitat for Humanity
X-ORIGINAL-URL:https://www.ashevillehabitat.org
X-WR-CALDESC:Events for Asheville Habitat for Humanity
REFRESH-INTERVAL;VALUE=DURATION:PT1H
X-Robots-Tag:noindex
X-PUBLISHED-TTL:PT1H
BEGIN:VTIMEZONE
TZID:UTC
BEGIN:STANDARD
TZOFFSETFROM:+0000
TZOFFSETTO:+0000
TZNAME:UTC
DTSTART:20150101T000000
END:STANDARD
END:VTIMEZONE
BEGIN:VTIMEZONE
TZID:America/New_York
BEGIN:DAYLIGHT
TZOFFSETFROM:-0500
TZOFFSETTO:-0400
TZNAME:EDT
DTSTART:20140309T070000
END:DAYLIGHT
BEGIN:STANDARD
TZOFFSETFROM:-0400
TZOFFSETTO:-0500
TZNAME:EST
DTSTART:20141102T060000
END:STANDARD
BEGIN:DAYLIGHT
TZOFFSETFROM:-0500
TZOFFSETTO:-0400
TZNAME:EDT
DTSTART:20150308T070000
END:DAYLIGHT
BEGIN:STANDARD
TZOFFSETFROM:-0400
TZOFFSETTO:-0500
TZNAME:EST
DTSTART:20151101T060000
END:STANDARD
BEGIN:DAYLIGHT
TZOFFSETFROM:-0500
TZOFFSETTO:-0400
TZNAME:EDT
DTSTART:20160313T070000
END:DAYLIGHT
BEGIN:STANDARD
TZOFFSETFROM:-0400
TZOFFSETTO:-0500
TZNAME:EST
DTSTART:20161106T060000
END:STANDARD
END:VTIMEZONE
BEGIN:VEVENT
DTSTART;TZID=UTC:20180801T080000
DTEND;TZID=UTC:20180801T170000
DTSTAMP:20260421T113559
CREATED:20180628T040000Z
LAST-MODIFIED:20181220T160548Z
UID:10000152-1533110400-1533142800@www.ashevillehabitat.org
SUMMARY:ReStore ReUse Contest LAST CALL!
DESCRIPTION:Be sure to submit your entries for AAHH’s 2018 ReStore ReUse Contest!  Entry period ends August 31! \n \nWHEN\nThe contest began on July 1\, 2018 and ends on August 31\, 2018. Winners will be announced mid-September. \nWHO\nAnyone!  (Except employees of Asheville Area Habitat for Humanity) \nWHAT\nAsheville Area Habitat for Humanity (AAHH) is hosting the 7th annual ReStore ReUse Contest to showcase innovative building projects constructed predominantly of used building materials. \n  \nWinners will be selected in the following categories: \nBest in Show: $500 ReStore gift card \nFurniture: $250 ReStore gift card \nHomesteading (i.e. chicken coop\, raised bed): $250 ReStore gift card \nLive and/or work space: $250 ReStore gift card \nHome Decor: $250 ReStore gift card \nYouth (age 16 and under): $100 ReStore gift card \nWinners will be announced in a press release\, on Asheville Habitat’s website and social media pages\, and featured in the Asheville Habitat ReStore.
URL:https://www.ashevillehabitat.org/event/restore-reuse-contest-last-call/
CATEGORIES:ReStore
ATTACH;FMTTYPE=image/png:https://www.ashevillehabitat.org/wp-content/uploads/2018/12/facebook_ad.png
END:VEVENT
BEGIN:VEVENT
DTSTART;VALUE=DATE:20180701
DTEND;VALUE=DATE:20180702
DTSTAMP:20260421T113559
CREATED:20180628T040000Z
LAST-MODIFIED:20181220T160545Z
UID:10000151-1530403200-1530489599@www.ashevillehabitat.org
SUMMARY:2018 ReStore ReUse Contest Begins TODAY!
DESCRIPTION:WHAT\nAsheville Area Habitat for Humanity (AAHH) is hosting the 7th annual ReStore ReUse Contest to showcase innovative building projects constructed predominantly of used building materials. \nWHEN\nThe contest begins on July 1\, 2018 and ends on August 31\, 2018. Winners will be announced mid-September. \nWHO\nAnyone!  (Except employees of Asheville Area Habitat for Humanity) \nWinners will be selected in the following categories: \nBest in Show: $500 ReStore gift card \nFurniture: $250 ReStore gift card \nHomesteading (i.e. chicken coop\, raised bed): $250 ReStore gift card \nLive and/or work space: $250 ReStore gift card \nHome Decor: $250 ReStore gift card \nYouth (age 16 and under): $100 ReStore gift card \nWinners will be announced in a press release\, on Asheville Habitat’s website and social media pages\, and featured in the Asheville Habitat ReStore.
URL:https://www.ashevillehabitat.org/event/2018-restore-reuse-contest-begins-today/
CATEGORIES:ReStore
ATTACH;FMTTYPE=image/png:https://www.ashevillehabitat.org/wp-content/uploads/2018/12/facebook_ad.png
END:VEVENT
BEGIN:VEVENT
DTSTART;TZID=UTC:20160701T080000
DTEND;TZID=UTC:20160831T000000
DTSTAMP:20260421T113559
CREATED:20160701T040000Z
LAST-MODIFIED:20181220T160510Z
UID:10000012-1467360000-1472601600@www.ashevillehabitat.org
SUMMARY:5th Annual ReStore ReUse Contest
DESCRIPTION:For the fifth consecutive year\, the Asheville Habitat ReStore is encouraging residents to show off their creativity and talent for a chance to win the ReStore ReUse Contest. Garden shed\, artist studio\, chicken coop…tree house\, dog house\, playhouse…if you recently built a structure like this using predominantly reused building materials\, Habitat wants to know! The contest runs July 1-August 31 and submissions must be sent electronically. \nTo read more\, click here. \nTo submit your entry\, click here. \nNeed inspiration? Below are the 2015 winners. To see all entries from 2015\, click here. \n    \n 
URL:https://www.ashevillehabitat.org/event/restore-reuse-contest-2/
LOCATION:Photo-Dec-11-2-57-03-PM-1030×773
CATEGORIES:Public Event,ReStore
ATTACH;FMTTYPE=image/jpeg:https://www.ashevillehabitat.org/wp-content/uploads/2018/12/2016-ReUse-Contest-for-web.jpg
END:VEVENT
BEGIN:VEVENT
DTSTART;VALUE=DATE:20150701
DTEND;VALUE=DATE:20150901
DTSTAMP:20260421T113559
CREATED:20150710T040000Z
LAST-MODIFIED:20181220T160457Z
UID:10000066-1435708800-1441065599@www.ashevillehabitat.org
SUMMARY:4th Annual ReStore ReUse Contest
DESCRIPTION:Asheville Area Habitat for Humanity (AAHH) is hosting its 4th annual ReStore ReUse Contest to showcase innovative building projects constructed predominantly of used building materials. \nClick here for details.
URL:https://www.ashevillehabitat.org/event/4th-annual-restore-reuse-contest/
LOCATION:Photo-Dec-11-2-57-03-PM-1030×773
CATEGORIES:ReStore
ATTACH;FMTTYPE=image/jpeg:https://www.ashevillehabitat.org/wp-content/uploads/2018/12/ReUse-contest-blog_2015.jpg
END:VEVENT
END:VCALENDAR