BEGIN:VCALENDAR
VERSION:2.0
PRODID:-//Asheville Habitat for Humanity - ECPv6.15.18//NONSGML v1.0//EN
CALSCALE:GREGORIAN
METHOD:PUBLISH
X-WR-CALNAME:Asheville Habitat for Humanity
X-ORIGINAL-URL:https://www.ashevillehabitat.org
X-WR-CALDESC:Events for Asheville Habitat for Humanity
REFRESH-INTERVAL;VALUE=DURATION:PT1H
X-Robots-Tag:noindex
X-PUBLISHED-TTL:PT1H
BEGIN:VTIMEZONE
TZID:UTC
BEGIN:STANDARD
TZOFFSETFROM:+0000
TZOFFSETTO:+0000
TZNAME:UTC
DTSTART:20170101T000000
END:STANDARD
END:VTIMEZONE
BEGIN:VTIMEZONE
TZID:America/New_York
BEGIN:DAYLIGHT
TZOFFSETFROM:-0500
TZOFFSETTO:-0400
TZNAME:EDT
DTSTART:20180311T070000
END:DAYLIGHT
BEGIN:STANDARD
TZOFFSETFROM:-0400
TZOFFSETTO:-0500
TZNAME:EST
DTSTART:20181104T060000
END:STANDARD
BEGIN:DAYLIGHT
TZOFFSETFROM:-0500
TZOFFSETTO:-0400
TZNAME:EDT
DTSTART:20190310T070000
END:DAYLIGHT
BEGIN:STANDARD
TZOFFSETFROM:-0400
TZOFFSETTO:-0500
TZNAME:EST
DTSTART:20191103T060000
END:STANDARD
BEGIN:DAYLIGHT
TZOFFSETFROM:-0500
TZOFFSETTO:-0400
TZNAME:EDT
DTSTART:20200308T070000
END:DAYLIGHT
BEGIN:STANDARD
TZOFFSETFROM:-0400
TZOFFSETTO:-0500
TZNAME:EST
DTSTART:20201101T060000
END:STANDARD
BEGIN:DAYLIGHT
TZOFFSETFROM:-0500
TZOFFSETTO:-0400
TZNAME:EDT
DTSTART:20210314T070000
END:DAYLIGHT
BEGIN:STANDARD
TZOFFSETFROM:-0400
TZOFFSETTO:-0500
TZNAME:EST
DTSTART:20211107T060000
END:STANDARD
END:VTIMEZONE
BEGIN:VEVENT
DTSTART;TZID=UTC:20180722T140000
DTEND;TZID=UTC:20180722T170000
DTSTAMP:20260425T163843
CREATED:20180710T040000Z
LAST-MODIFIED:20181220T160548Z
UID:10000153-1532268000-1532278800@www.ashevillehabitat.org
SUMMARY:First Annual Cookie Chill Off
DESCRIPTION:Join us at TreeRock Social for the first Annual Cookie Chill Off! \nThis is a charity event to help support Habitat for Humanity’s Women Build House \nTasting fee $5.  There will be a kids category (7-12) and a gluten free category amongst others. \nPrizes will be awarded for the best of each category as well as to the overall winner! \nLuscious Liquor Ice Cream will provide ice cream for all ages at the event.
URL:https://www.ashevillehabitat.org/event/first-annual-cookie-chill-off/
CATEGORIES:Public Event
ATTACH;FMTTYPE=image/png:https://www.ashevillehabitat.org/wp-content/uploads/2018/12/TreeRock-Social-Cider-Logo.png
END:VEVENT
BEGIN:VEVENT
DTSTART;TZID=UTC:20180927T110000
DTEND;TZID=UTC:20180927T180000
DTSTAMP:20260425T163843
CREATED:20180808T040000Z
LAST-MODIFIED:20181220T160550Z
UID:10000156-1538046000-1538071200@www.ashevillehabitat.org
SUMMARY:Yoga for Habitat!
DESCRIPTION:Asheville Yoga Center is raising funds for AAHH throughout September and for an added bonus\, the last Thursday of the month 10% of proceeds from drop-in and community classes will be donated to Habitat.  Come out to get sweaty\, relaxed\, and stretched while supporting affordable homeownership for our community!
URL:https://www.ashevillehabitat.org/event/support-habitat-at-asheville-yoga-center/
LOCATION:Celine And Co (1)
CATEGORIES:Benefit,Public Event
ATTACH;FMTTYPE=image/png:https://www.ashevillehabitat.org/wp-content/uploads/2018/12/Asheville-yoga-center.png
END:VEVENT
BEGIN:VEVENT
DTSTART;TZID=America/New_York:20190302T100000
DTEND;TZID=America/New_York:20190302T110000
DTSTAMP:20260425T163843
CREATED:20190206T205122Z
LAST-MODIFIED:20190206T205122Z
UID:10000079-1551520800-1551524400@www.ashevillehabitat.org
SUMMARY:Homeownership Information Session
DESCRIPTION:Asheville Area Habitat builds affordable\, energy-efficient 2\, 3 and 4-bedroom houses and townhomes that are sold to qualifying buyers who repay an affordable mortgage (serviced by Habitat). Applicants must qualify based on Residency Status\, Need\, Ability to Pay\, and Willingness to Partner (see below for details). \nWe are currently accepting applications for our new 12-home Curry Court neighborhood in Candler. \n\n\n\n\n\n\n\n\n\n\n\n\n\nFor more details on the home ownership program\, potential applicants are encouraged to attend an Information Session (see dates below). The sessions are held at Asheville Area Habitat Administrative Office at 33 Meadow Road.\n\n\n\n\n\n\n\n\n\n\n\n\n\nAdditional Upcoming Information Sessions\nThe following 1- hour sessions will take place at Habitat’s Administrative Office at 33 Meadow Road\, Asheville\, NC \nSaturday 3/2/19 at 10 am \nWednesday 3/20/19 at 6pm \nWednesday 4/17/19 at 6pm \nPlease note: in the case of inclement weather\, Habitat will follow Asheville City School closings.
URL:https://www.ashevillehabitat.org/event/homeownership-information-session/2019-03-02/
LOCATION:Asheville Habitat Administrative Office\, 33 Meadow Road\, Asheville\, NC\, 28803\, United States
CATEGORIES:Info Session,Public Event
GEO:35.568287;-82.54854
X-APPLE-STRUCTURED-LOCATION;VALUE=URI;X-ADDRESS=Asheville Habitat Administrative Office 33 Meadow Road Asheville NC 28803 United States;X-APPLE-RADIUS=500;X-TITLE=33 Meadow Road:geo:-82.54854,35.568287
END:VEVENT
BEGIN:VEVENT
DTSTART;TZID=America/New_York:20190320T180000
DTEND;TZID=America/New_York:20190320T190000
DTSTAMP:20260425T163843
CREATED:20190206T205122Z
LAST-MODIFIED:20190206T205122Z
UID:10000080-1553104800-1553108400@www.ashevillehabitat.org
SUMMARY:Homeownership Information Session
DESCRIPTION:Asheville Area Habitat builds affordable\, energy-efficient 2\, 3 and 4-bedroom houses and townhomes that are sold to qualifying buyers who repay an affordable mortgage (serviced by Habitat). Applicants must qualify based on Residency Status\, Need\, Ability to Pay\, and Willingness to Partner (see below for details). \nWe are currently accepting applications for our new 12-home Curry Court neighborhood in Candler. \n\n\n\n\n\n\n\n\n\n\n\n\n\nFor more details on the home ownership program\, potential applicants are encouraged to attend an Information Session (see dates below). The sessions are held at Asheville Area Habitat Administrative Office at 33 Meadow Road.\n\n\n\n\n\n\n\n\n\n\n\n\n\nAdditional Upcoming Information Sessions\nThe following 1- hour sessions will take place at Habitat’s Administrative Office at 33 Meadow Road\, Asheville\, NC \nSaturday 3/2/19 at 10 am \nWednesday 3/20/19 at 6pm \nWednesday 4/17/19 at 6pm \nPlease note: in the case of inclement weather\, Habitat will follow Asheville City School closings.
URL:https://www.ashevillehabitat.org/event/homeownership-information-session/2019-03-20/
LOCATION:Asheville Habitat Administrative Office\, 33 Meadow Road\, Asheville\, NC\, 28803\, United States
CATEGORIES:Info Session,Public Event
GEO:35.568287;-82.54854
X-APPLE-STRUCTURED-LOCATION;VALUE=URI;X-ADDRESS=Asheville Habitat Administrative Office 33 Meadow Road Asheville NC 28803 United States;X-APPLE-RADIUS=500;X-TITLE=33 Meadow Road:geo:-82.54854,35.568287
END:VEVENT
BEGIN:VEVENT
DTSTART;TZID=America/New_York:20200917T120000
DTEND;TZID=America/New_York:20200917T200000
DTSTAMP:20260425T163843
CREATED:20200824T130040Z
LAST-MODIFIED:20200914T121908Z
UID:10000207-1600344000-1600372800@www.ashevillehabitat.org
SUMMARY:Blue Mountain Pizza Fundraiser
DESCRIPTION:Blue Mountain Pizza in Weaverville has designated Asheville Habitat as the beneficiary of it’s “Third Thursday Fundraiser” in September. 10% of proceeds from sales on September 17 will be donated to us! Currently\, Take-Out only. Visit their website to see the menu and place your order on Thursday\, September 17th!
URL:https://www.ashevillehabitat.org/event/blue-moon-pizza-fundraiser/
LOCATION:Blue Mountain Pizza\, 55 North Main St\, Weaverville\, NC\, 28757
CATEGORIES:Benefit,Public Event
ATTACH;FMTTYPE=image/jpeg:https://www.ashevillehabitat.org/wp-content/uploads/2020/08/pizza-3007395_1280.jpg
END:VEVENT
END:VCALENDAR