BEGIN:VCALENDAR
VERSION:2.0
PRODID:-//Asheville Habitat for Humanity - ECPv6.15.18//NONSGML v1.0//EN
CALSCALE:GREGORIAN
METHOD:PUBLISH
X-ORIGINAL-URL:https://www.ashevillehabitat.org
X-WR-CALDESC:Events for Asheville Habitat for Humanity
REFRESH-INTERVAL;VALUE=DURATION:PT1H
X-Robots-Tag:noindex
X-PUBLISHED-TTL:PT1H
BEGIN:VTIMEZONE
TZID:UTC
BEGIN:STANDARD
TZOFFSETFROM:+0000
TZOFFSETTO:+0000
TZNAME:UTC
DTSTART:20160101T000000
END:STANDARD
END:VTIMEZONE
BEGIN:VEVENT
DTSTART;TZID=UTC:20170929T080000
DTEND;TZID=UTC:20170929T153000
DTSTAMP:20260421T112851
CREATED:20170912T040000Z
LAST-MODIFIED:20181220T160524Z
UID:10000126-1506672000-1506699000@www.ashevillehabitat.org
SUMMARY:2017 Affordable Housing Summit
DESCRIPTION:2017 Affordable Housing Summit\nPresented by Pisgah Legal Services\, City of Asheville\, and Buncombe County\nJoin developers\, planners\, investors\, local government leaders\, and policy advocates to discuss strategies to meet affordable housing needs in the WNC region. \nLocal and regional experts will present on practical and solutions-oriented topics in development\, policy\, finance\, and emerging trends in the field. \nPulitzer Prize winner Dr. Matthew Desmond\, author of Evicted: Poverty and Profit in the American City\, will make opening remarks\, followed by morning and afternoon sessions and a lunch plenary presentation by Bruce Tolar on Missing Middle development strategies. \nTopics include: \n\nResident & Community Engagement Strategies\nPublic Relations & Advocacy Strategies: Introducing Communities to New Projects\nFinancial & Zoning Incentives – City of Asheville &Buncombe County\nBanking Sector Perspectives\nTax Incentive Financing – Beyond LIHTC\nDevelopment Services & State Building Code – Pitfalls &Tips\nUniversal Design & Accessibility\nBringing New Players & New Designs to the Table in Development\nCitizen’s Guide to Affordable Housing Development\nFair Housing Act – Policy & Practice\nSupportive Housing Strategies\nLegislative Update from NC Housing Coalition\nGreen Affordable Housing\n\nFor questions or more information\, please contact Justin Edge at 828-210-4493 or justin@pisgahlegal.org.
URL:https://www.ashevillehabitat.org/event/2017-affordable-housing-summit/
CATEGORIES:Public Event
END:VEVENT
BEGIN:VEVENT
DTSTART;TZID=UTC:20170928T173000
DTEND;TZID=UTC:20170928T200000
DTSTAMP:20260421T112851
CREATED:20170912T040000Z
LAST-MODIFIED:20181220T160523Z
UID:10000114-1506619800-1506628800@www.ashevillehabitat.org
SUMMARY:7th Annual PLS Poverty Forum
DESCRIPTION:Please join us for a community conversation about affordable housing issues in WNC and how we can work together to bring about change. \nDr. Matthew Desmond is the John L. Loeb Associate Professor of the Social Sciences at Harvard University and co-director of the Justice and Poverty Project. \nHis New York Times bestselling book Evicted: Poverty and Profit in the American City draws on years of embedded fieldwork and painstakingly gathered data. Evicted won the 2017 Pulitzer Prize\, National Books Critics Circle Award for Nonfiction. \nIn 2015\, Desmond was awarded a MacArthur “Genius” grant. \n5:30pm – Cocktail Reception with Matthew Desmond (sold out)\n7:00pm – Forum \nThe Sherrill Center/Kimmel Arena\, UNC Asheville \n***To buy tickets or sponsor by phone\, contact Brent McKnight at (828) 210-3405 or brent@pisgahlegal.org.
URL:https://www.ashevillehabitat.org/event/7th-annual-pls-poverty-forum/
CATEGORIES:Public Event
END:VEVENT
BEGIN:VEVENT
DTSTART;TZID=UTC:20170921T160000
DTEND;TZID=UTC:20170921T170000
DTSTAMP:20260421T112851
CREATED:20170912T040000Z
LAST-MODIFIED:20181220T160523Z
UID:10000116-1506009600-1506013200@www.ashevillehabitat.org
SUMMARY:Evicted: Poverty and Profit in the American City - Book Discussion
DESCRIPTION:If you’ve read\, or plan to read Matthew Desmond’s book Evicted: Poverty and Profit in the American City before the Poverty Forum or Poverty Summit\, please join us for a book discussion. Asheville Habitat Executive Director Andy Barnett will lead the discussion in Habitat’s Conference Room. Attendees are invited to bring a snack to share. \nTo RSVP\, please email Laura. \nAbout the book*: Harvard sociologist and MacArthur “Genius” Matthew Desmond follows eight families in Milwaukee as they struggle to keep a roof over their heads. Hailed as “wrenching and revelatory” (The Nation)\, “vivid and unsettling” (New York Review of Books)\, Evicted transforms our understanding of poverty and economic exploitation while providing fresh ideas for solving one of 21st-century America’s most devastating problems. Its unforgettable scenes of hope and loss remind us of the centrality of home\, without which nothing else is possible. \nWhere to buy: \nMalaprops \nAmazon \nBarnes & Noble \n  \n* From http://www.evictedbook.com/
URL:https://www.ashevillehabitat.org/event/evicted-poverty-profit-american-city-book-discussion/
LOCATION:#3 (4)
CATEGORIES:Public Event
END:VEVENT
END:VCALENDAR