BEGIN:VCALENDAR
VERSION:2.0
PRODID:-//Asheville Habitat for Humanity - ECPv6.15.18//NONSGML v1.0//EN
CALSCALE:GREGORIAN
METHOD:PUBLISH
X-WR-CALNAME:Asheville Habitat for Humanity
X-ORIGINAL-URL:https://www.ashevillehabitat.org
X-WR-CALDESC:Events for Asheville Habitat for Humanity
REFRESH-INTERVAL;VALUE=DURATION:PT1H
X-Robots-Tag:noindex
X-PUBLISHED-TTL:PT1H
BEGIN:VTIMEZONE
TZID:America/New_York
BEGIN:DAYLIGHT
TZOFFSETFROM:-0500
TZOFFSETTO:-0400
TZNAME:EDT
DTSTART:20130310T070000
END:DAYLIGHT
BEGIN:STANDARD
TZOFFSETFROM:-0400
TZOFFSETTO:-0500
TZNAME:EST
DTSTART:20131103T060000
END:STANDARD
BEGIN:DAYLIGHT
TZOFFSETFROM:-0500
TZOFFSETTO:-0400
TZNAME:EDT
DTSTART:20140309T070000
END:DAYLIGHT
BEGIN:STANDARD
TZOFFSETFROM:-0400
TZOFFSETTO:-0500
TZNAME:EST
DTSTART:20141102T060000
END:STANDARD
BEGIN:DAYLIGHT
TZOFFSETFROM:-0500
TZOFFSETTO:-0400
TZNAME:EDT
DTSTART:20150308T070000
END:DAYLIGHT
BEGIN:STANDARD
TZOFFSETFROM:-0400
TZOFFSETTO:-0500
TZNAME:EST
DTSTART:20151101T060000
END:STANDARD
END:VTIMEZONE
BEGIN:VEVENT
DTSTART;TZID=America/New_York:20141116T183000
DTEND;TZID=America/New_York:20141116T203000
DTSTAMP:20260424T193524
CREATED:20141008T040000Z
LAST-MODIFIED:20181220T160447Z
UID:10000034-1416162600-1416169800@www.ashevillehabitat.org
SUMMARY:Benefit Concert
DESCRIPTION:Come enjoy a wonderful concert with performances by David Lamotte\, George Terry\, The Gypsy Swingers\, Kellen Watson\, Jeff Thompson and more! Free\, but good-will offerings will be collected and all donations will go to Asheville Area Habitat. Concert is at West Asheville Presbyterian Church located at 690 Haywood Rd\, Asheville\, NC.
URL:https://www.ashevillehabitat.org/event/benefit-concert/
LOCATION:CP-#10_Duath-Hamling-Eaton-Anon_1.15.17 (1)
CATEGORIES:Benefit
END:VEVENT
END:VCALENDAR