BEGIN:VCALENDAR
VERSION:2.0
PRODID:-//Asheville Habitat for Humanity - ECPv6.15.18//NONSGML v1.0//EN
CALSCALE:GREGORIAN
METHOD:PUBLISH
X-WR-CALNAME:Asheville Habitat for Humanity
X-ORIGINAL-URL:https://www.ashevillehabitat.org
X-WR-CALDESC:Events for Asheville Habitat for Humanity
REFRESH-INTERVAL;VALUE=DURATION:PT1H
X-Robots-Tag:noindex
X-PUBLISHED-TTL:PT1H
BEGIN:VTIMEZONE
TZID:UTC
BEGIN:STANDARD
TZOFFSETFROM:+0000
TZOFFSETTO:+0000
TZNAME:UTC
DTSTART:20160101T000000
END:STANDARD
END:VTIMEZONE
BEGIN:VEVENT
DTSTART;TZID=UTC:20180125T150000
DTEND;TZID=UTC:20180125T210000
DTSTAMP:20260421T111948
CREATED:20171222T050000Z
LAST-MODIFIED:20181220T160535Z
UID:10000142-1516892400-1516914000@www.ashevillehabitat.org
SUMMARY:Highland Brewing Community Pint Night for The House That Beer Built
DESCRIPTION:Asheville Area Habitat for Humanity and the “House That Beer Built” will be the lucky recipient of $1.00 per pint from every pint sold at Highland Brewing’s Community Pint Night! \nCommunity Pint Nights shine the spotlight on some of the great local organizations that do great works in and around Western North Carolina\, and give you a chance to learn more about what’s happening in your community. \nJoin us at Highland from for great beer\, great community\, Ryan Roots Open Mic Jam\, and a chance to help another Buncombe County family build a safe\, affordable home!
URL:https://www.ashevillehabitat.org/event/highland-brewing-community-pint-night-house-beer-built/
LOCATION:6ft 1
CATEGORIES:Public Event
ATTACH;FMTTYPE=image/jpeg:https://www.ashevillehabitat.org/wp-content/uploads/2018/12/avl-brewers-alliance-logo-by-big-bridge_crop.jpg
END:VEVENT
BEGIN:VEVENT
DTSTART;VALUE=DATE:20170914
DTEND;VALUE=DATE:20170915
DTSTAMP:20260421T111948
CREATED:20170912T040000Z
LAST-MODIFIED:20181220T160521Z
UID:10000113-1505347200-1505433599@www.ashevillehabitat.org
SUMMARY:Beer Release To Benefit The House That Beer Built
DESCRIPTION:Calling all beer drinkers\, come support Habitat! Sept. 14 Catawba Brewing Co – South Slope Tasting Room & Brewery is releasing a small batch of a German style Marzen and $1 from each pint sold goes to The House That Beer Built for a month following the release. Cheers!
URL:https://www.ashevillehabitat.org/event/beer-release-benefit-house-beer-built/
LOCATION:185 Hampton St 3.09.200
CATEGORIES:Public Event
ATTACH;FMTTYPE=image/jpeg:https://www.ashevillehabitat.org/wp-content/uploads/2018/12/HTBB_CatawbaRelease.jpg
END:VEVENT
END:VCALENDAR