BEGIN:VCALENDAR
VERSION:2.0
PRODID:-//Asheville Habitat for Humanity - ECPv6.15.18//NONSGML v1.0//EN
CALSCALE:GREGORIAN
METHOD:PUBLISH
X-WR-CALNAME:Asheville Habitat for Humanity
X-ORIGINAL-URL:https://www.ashevillehabitat.org
X-WR-CALDESC:Events for Asheville Habitat for Humanity
REFRESH-INTERVAL;VALUE=DURATION:PT1H
X-Robots-Tag:noindex
X-PUBLISHED-TTL:PT1H
BEGIN:VTIMEZONE
TZID:America/New_York
BEGIN:DAYLIGHT
TZOFFSETFROM:-0500
TZOFFSETTO:-0400
TZNAME:EDT
DTSTART:20240310T070000
END:DAYLIGHT
BEGIN:STANDARD
TZOFFSETFROM:-0400
TZOFFSETTO:-0500
TZNAME:EST
DTSTART:20241103T060000
END:STANDARD
BEGIN:DAYLIGHT
TZOFFSETFROM:-0500
TZOFFSETTO:-0400
TZNAME:EDT
DTSTART:20250309T070000
END:DAYLIGHT
BEGIN:STANDARD
TZOFFSETFROM:-0400
TZOFFSETTO:-0500
TZNAME:EST
DTSTART:20251102T060000
END:STANDARD
BEGIN:DAYLIGHT
TZOFFSETFROM:-0500
TZOFFSETTO:-0400
TZNAME:EDT
DTSTART:20260308T070000
END:DAYLIGHT
BEGIN:STANDARD
TZOFFSETFROM:-0400
TZOFFSETTO:-0500
TZNAME:EST
DTSTART:20261101T060000
END:STANDARD
END:VTIMEZONE
BEGIN:VEVENT
DTSTART;TZID=America/New_York:20250202T143000
DTEND;TZID=America/New_York:20250202T183000
DTSTAMP:20260423T170317
CREATED:20241219T165746Z
LAST-MODIFIED:20241231T175215Z
UID:10000237-1738506600-1738521000@www.ashevillehabitat.org
SUMMARY:Stars Servin' Up Love
DESCRIPTION:  \nStars Servin’ Up Love Presented by Explore Asheville will welcome Andre Agassi\, Andy Roddick\, Jessica Pegula\, Emma Navarro\, Michael Kosta\, Pete Wentz\, Jeff Probst\, Esai Morales\, and others to the Harrah’s Cherokee Center – Asheville for a celebrity tennis Hurricane Helene benefit for Western North Carolina. 100% of net proceeds from the charity event (including direct donations from the online auction and other opportunities) will be donated to local nonprofits including Always Asheville Fund\, Asheville Area Habitat for Humanity\, United Way of Asheville & Buncombe County\, and Asheville Tennis Association. \nBuy tickets today!
URL:https://www.ashevillehabitat.org/event/stars-servin-up-love/
LOCATION:Harrah’s Cherokee Center\, Asheville\, NC\, 28801\, United States
CATEGORIES:Benefit,Public Event
END:VEVENT
BEGIN:VEVENT
DTSTART;TZID=America/New_York:20250215T090000
DTEND;TZID=America/New_York:20250215T140000
DTSTAMP:20260423T170317
CREATED:20250211T141340Z
LAST-MODIFIED:20250211T141425Z
UID:10000241-1739610000-1739628000@www.ashevillehabitat.org
SUMMARY:Soup & Yard Sale Fundraiser for Habitat
DESCRIPTION:Grace Episcopal Church is hosting a fundraising lunch for Asheville Area Habitat for Humanity from 11am to 2pm on Saturday\, February 15th. Come enjoy a variety of soups catered by local restaurant\, Rye Knot. Suggested donation for the lunch is $20 per person\, with all proceeds going directly to Asheville Area Habitat. The menu is Brunswick Stew\, Vegetable Soup\, and Seafood Soup\, all served with rice. Take out is available. \n\nPlus\, shop or sell at the Yard Sale! 9am to 2pm on the Front Lawn. Find great deals and support the cause! Interested in selling? Register by emailing afseale1164@gmail.com with your name\, phone number\, and item list.
URL:https://www.ashevillehabitat.org/event/soup-yard-sale-fundraiser-for-habitat/
LOCATION:Grace Episcopal Church\, 871 Merrimon Ave\, Asheville\, NC\, 28804\, United States
CATEGORIES:Benefit,Public Event
END:VEVENT
END:VCALENDAR