BEGIN:VCALENDAR
VERSION:2.0
PRODID:-//Asheville Habitat for Humanity - ECPv6.15.18//NONSGML v1.0//EN
CALSCALE:GREGORIAN
METHOD:PUBLISH
X-WR-CALNAME:Asheville Habitat for Humanity
X-ORIGINAL-URL:https://www.ashevillehabitat.org
X-WR-CALDESC:Events for Asheville Habitat for Humanity
REFRESH-INTERVAL;VALUE=DURATION:PT1H
X-Robots-Tag:noindex
X-PUBLISHED-TTL:PT1H
BEGIN:VTIMEZONE
TZID:UTC
BEGIN:STANDARD
TZOFFSETFROM:+0000
TZOFFSETTO:+0000
TZNAME:UTC
DTSTART:20170101T000000
END:STANDARD
END:VTIMEZONE
BEGIN:VEVENT
DTSTART;VALUE=DATE:20180207
DTEND;VALUE=DATE:20180208
DTSTAMP:20260423T142123
CREATED:20180131T050000Z
LAST-MODIFIED:20181220T160536Z
UID:10000043-1517961600-1518047999@www.ashevillehabitat.org
SUMMARY:Twin Leaf Brewing Pint Night
DESCRIPTION:Support the House That Beer Built at Twin Leaf Brewing.  Twin Leaf will donate $1 from each pint to help support affordable home ownership in Buncombe County.
URL:https://www.ashevillehabitat.org/event/twin-leaf-brewing-pint-night/
LOCATION:NC
CATEGORIES:Public Event
END:VEVENT
BEGIN:VEVENT
DTSTART;VALUE=DATE:20180208
DTEND;VALUE=DATE:20180209
DTSTAMP:20260423T142123
CREATED:20180131T050000Z
LAST-MODIFIED:20181220T160536Z
UID:10000045-1518048000-1518134399@www.ashevillehabitat.org
SUMMARY:Wicked Weed Funkatorium Pint Night
DESCRIPTION:Help support affordable homeownership with Wicked Weed.  $1 per pour of the “Saison V” will go toward The House That Beer Built.
URL:https://www.ashevillehabitat.org/event/wicked-weed-funkatorium-pint-night/
LOCATION:NC
CATEGORIES:Public Event
END:VEVENT
BEGIN:VEVENT
DTSTART;TZID=UTC:20180219T160000
DTEND;TZID=UTC:20180219T220000
DTSTAMP:20260423T142123
CREATED:20180219T050000Z
LAST-MODIFIED:20181220T160536Z
UID:10000048-1519056000-1519077600@www.ashevillehabitat.org
SUMMARY:Pint Night at Hillman Beer
DESCRIPTION:Pint Night at Hillman Beer – $1 for every Hillman Beer pint sold from 4-10pm towards The House That Beer Built! Plus\, live music from the amazing Melodic AF band! Come out for some great beer\, music & dancing\, to support a great cause!
URL:https://www.ashevillehabitat.org/event/pint-night-hillman-beer/
LOCATION:House Of Faith
END:VEVENT
BEGIN:VEVENT
DTSTART;TZID=UTC:20180224T170000
DTEND;TZID=UTC:20180225T000000
DTSTAMP:20260423T142123
CREATED:20180131T050000Z
LAST-MODIFIED:20181220T160536Z
UID:10000047-1519491600-1519516800@www.ashevillehabitat.org
SUMMARY:Habitat Music Showcase at UpCountry Brewing
DESCRIPTION:It’s a Habitat showcase with music by 4 Habitat ReStore employees and their bands! \nKid-friendly. Face painting from 5:30-7:30pm with donations going to Habitat. \n$1 per pour goes to Habitat. \nMusic starts at 5pm: \n5:00-6:30 Scott Bianchi \n6:30-6:45 Kilo Fresh \n7:30-9:00 Moonlight Street Folk \n10:00-12:00 The Dirty Badgers \n 
URL:https://www.ashevillehabitat.org/event/habitat-music-showcase-upcountry-brewing/
LOCATION:NC
CATEGORIES:Public Event
END:VEVENT
END:VCALENDAR