BEGIN:VCALENDAR
VERSION:2.0
PRODID:-//Asheville Habitat for Humanity - ECPv6.15.18//NONSGML v1.0//EN
CALSCALE:GREGORIAN
METHOD:PUBLISH
X-ORIGINAL-URL:https://www.ashevillehabitat.org
X-WR-CALDESC:Events for Asheville Habitat for Humanity
REFRESH-INTERVAL;VALUE=DURATION:PT1H
X-Robots-Tag:noindex
X-PUBLISHED-TTL:PT1H
BEGIN:VTIMEZONE
TZID:UTC
BEGIN:STANDARD
TZOFFSETFROM:+0000
TZOFFSETTO:+0000
TZNAME:UTC
DTSTART:20160101T000000
END:STANDARD
END:VTIMEZONE
BEGIN:VEVENT
DTSTART;VALUE=DATE:20171209
DTEND;VALUE=DATE:20171210
DTSTAMP:20260424T193523
CREATED:20171016T040000Z
LAST-MODIFIED:20181220T160531Z
UID:10000134-1512777600-1512863999@www.ashevillehabitat.org
SUMMARY:Warren Haynes Presents: The 29th Annual Christmas Jam
DESCRIPTION:We are thrilled to\, again\, be the non-profit partner of this amazing benefit concert\, the Warren Haynes Presents: The Christmas Jam! Thank you Warren Haynes and Stefani Scamardo for your commitment to affordable housing and for sharing the belief that everyone deserves a decent place to live. \n“Warren Haynes‘ 29th Annual Christmas Jam is once again taking over Asheville\, NC’s U.S. Cellular Center on December 9\, 2017\, where an incredible line-up of artists will take the stage in Haynes’ hometown benefitting the Asheville Area Habitat for Humanity. This year’s line-up will feature Gov’t Mule\, who will be joined by Ann Wilson of Heart as a special guest\, Trey Anastasio & Classic TAB\, The Avett Brothers\, Les Bros. (Jaimoe\, Marc Quiñones\, Jack Pearson\, Lamar Williams Jr.\, Bruce Katz & more)\, Blackberry Smoke\, with special guests Jake Shimabukuro\, Holly Bowling\, Brandon “Taz” Niederauer\, Kevn Kinney\, Mike Barnes\, and more!” \nFor more information\, including ticket purchases and updates\, visit http://www.xmasjam.com.
URL:https://www.ashevillehabitat.org/event/warren-haynes-presents-29th-annual-christmas-jam/
LOCATION:McKinley Dedication 7.14 (35)
CATEGORIES:Benefit,Public Event
ATTACH;FMTTYPE=image/jpeg:https://www.ashevillehabitat.org/wp-content/uploads/2018/12/XJFinalAdmat2017-01.jpg
END:VEVENT
BEGIN:VEVENT
DTSTART;TZID=UTC:20171218T100000
DTEND;TZID=UTC:20171218T210000
DTSTAMP:20260424T193523
CREATED:20171010T040000Z
LAST-MODIFIED:20181220T160531Z
UID:10000132-1513591200-1513630800@www.ashevillehabitat.org
SUMMARY:Altar'd State's Mission Mondays to benefit Asheville Habitat
DESCRIPTION:As part of their Mission Mondays\, Altar’d State\, located in Biltmore Park\, will be donating 10% of their net sales to Asheville Habitat EVERY Monday from now until December 18! Check them out for all your lady apparel needs and know that you’re helping create affordable housing in Asheville.
URL:https://www.ashevillehabitat.org/event/altard-states-mission-mondays-benefit-asheville-habitat-2017-12-18-2/2017-12-18/
LOCATION:AmeriCorps Stories: Lauren Rozman
CATEGORIES:Public Event
ATTACH;FMTTYPE=image/jpeg:https://www.ashevillehabitat.org/wp-content/uploads/2018/12/altard-state.jpg
END:VEVENT
BEGIN:VEVENT
DTSTART;TZID=UTC:20171225T100000
DTEND;TZID=UTC:20171225T210000
DTSTAMP:20260424T193523
CREATED:20171010T040000Z
LAST-MODIFIED:20181220T160531Z
UID:10000133-1514196000-1514235600@www.ashevillehabitat.org
SUMMARY:Altar'd State's Mission Mondays to benefit Asheville Habitat
DESCRIPTION:As part of their Mission Mondays\, Altar’d State\, located in Biltmore Park\, will be donating 10% of their net sales to Asheville Habitat EVERY Monday from now until December 18! Check them out for all your lady apparel needs and know that you’re helping create affordable housing in Asheville.
URL:https://www.ashevillehabitat.org/event/altard-states-mission-mondays-benefit-asheville-habitat-2017-12-18-2/2017-12-25/
LOCATION:AmeriCorps Stories: Lauren Rozman
CATEGORIES:Public Event
ATTACH;FMTTYPE=image/jpeg:https://www.ashevillehabitat.org/wp-content/uploads/2018/12/altard-state.jpg
END:VEVENT
END:VCALENDAR