BEGIN:VCALENDAR
VERSION:2.0
PRODID:-//Asheville Habitat for Humanity - ECPv6.15.18//NONSGML v1.0//EN
CALSCALE:GREGORIAN
METHOD:PUBLISH
X-WR-CALNAME:Asheville Habitat for Humanity
X-ORIGINAL-URL:https://www.ashevillehabitat.org
X-WR-CALDESC:Events for Asheville Habitat for Humanity
REFRESH-INTERVAL;VALUE=DURATION:PT1H
X-Robots-Tag:noindex
X-PUBLISHED-TTL:PT1H
BEGIN:VTIMEZONE
TZID:UTC
BEGIN:STANDARD
TZOFFSETFROM:+0000
TZOFFSETTO:+0000
TZNAME:UTC
DTSTART:20150101T000000
END:STANDARD
END:VTIMEZONE
BEGIN:VEVENT
DTSTART;TZID=UTC:20161204T180000
DTEND;TZID=UTC:20161204T210000
DTSTAMP:20260424T211326
CREATED:20161107T050000Z
LAST-MODIFIED:20181220T160517Z
UID:10000017-1480874400-1480885200@www.ashevillehabitat.org
SUMMARY:Habitat Benefit Concert with Local Musicians
DESCRIPTION:West Asheville Presbyterian Church\, with West Village Market\, will once again hold its annual Habitat Benefit Concert with acts by talented local musicians! Attendance is free and a love offering will be taken midway through the show. \nPerformers include Valorie Miller\, Ian Ridenhour\, Jamie Laval\, Paul Babelay\, Laura Blackley\, Kevin Smith & Planefolk\, Blake Anthony Ellege and more! Hosted and produced by Aaron Price\, music director at West Asheville Presbyterian Church.
URL:https://www.ashevillehabitat.org/event/habitat-benefit-concert-local-musicians/
LOCATION:CP-#10_Duath-Hamling-Eaton-Anon_1.15.17 (1)
CATEGORIES:Benefit,Public Event
END:VEVENT
BEGIN:VEVENT
DTSTART;TZID=UTC:20161209T150000
DTEND;TZID=UTC:20161209T160000
DTSTAMP:20260424T211326
CREATED:20161108T050000Z
LAST-MODIFIED:20181220T160518Z
UID:10000104-1481295600-1481299200@www.ashevillehabitat.org
SUMMARY:Christmas Jam House Wall Raising
DESCRIPTION:Join us as we celebrate with Warren Haynes and his family\, Before the Jam\, Lend a Hand volunteers\, sponsors\, community well-wishers\, and the future Habitat homeowner family! There will be a short speaking program\, followed by the raising of the first wall.
URL:https://www.ashevillehabitat.org/event/christmas-jam-house-wall-raising/
LOCATION:Monkeys Holding The Light
END:VEVENT
BEGIN:VEVENT
DTSTART;TZID=UTC:20161210T190000
DTEND;TZID=UTC:20161211T030000
DTSTAMP:20260424T211326
CREATED:20161108T050000Z
LAST-MODIFIED:20181220T160518Z
UID:10000105-1481396400-1481425200@www.ashevillehabitat.org
SUMMARY:28th Annual Warren Haynes Presents: The Christmas Jam
DESCRIPTION:The Christmas Jam is a one-of-a-kind music marathon that has raised more than $2 million for Asheville Area Habitat for Humanity. This year’s show\, which includes Gov’t Mule\, the Grateful Dead’s Bob Weir\, Michael McDonald\, Jamey Johnson + Alison Krauss and The Last Waltz Band\, and many more\, has already sold out. We are eternally grateful for Warren’s ongoing commitment to affordable housing\, Asheville Area Habitat for Humanity and the families we serve. \nDidn’t get tickets to this year’s Christmas Jam? You can still enjoy Jam by Day.
URL:https://www.ashevillehabitat.org/event/28th-annual-warren-haynes-presents-christmas-jam/
LOCATION:McKinley Dedication 7.14 (35)
CATEGORIES:Benefit,Public Event
END:VEVENT
BEGIN:VEVENT
DTSTART;VALUE=DATE:20161223
DTEND;VALUE=DATE:20161224
DTSTAMP:20260424T211326
CREATED:20161107T050000Z
LAST-MODIFIED:20181220T160518Z
UID:10000019-1482451200-1482537599@www.ashevillehabitat.org
SUMMARY:Habitat Office and Construction Sites Closed - ReStore Open
DESCRIPTION:Habitat’s administrative office and construction sites are closed on the 23rd in observance of Christmas Eve. ReStore is open this day.
URL:https://www.ashevillehabitat.org/event/habitat-office-construction-sites-closed-restore-open/
LOCATION:NC
END:VEVENT
BEGIN:VEVENT
DTSTART;VALUE=DATE:20161224
DTEND;VALUE=DATE:20161225
DTSTAMP:20260424T211326
CREATED:20161107T050000Z
LAST-MODIFIED:20181220T160518Z
UID:10000020-1482537600-1482623999@www.ashevillehabitat.org
SUMMARY:ReStore Closed
DESCRIPTION:ReStore is closed in observance of Christmas Eve.
URL:https://www.ashevillehabitat.org/event/restore-closed/
LOCATION:NC
END:VEVENT
BEGIN:VEVENT
DTSTART;VALUE=DATE:20161226
DTEND;VALUE=DATE:20161227
DTSTAMP:20260424T211326
CREATED:20161107T050000Z
LAST-MODIFIED:20181220T160518Z
UID:10000102-1482710400-1482796799@www.ashevillehabitat.org
SUMMARY:ReStore\, Office and Construction Sites Closed
DESCRIPTION:Habitat’s ReStore\, administrative office and construction sites will be closed on the 26th in observance of Christmas.
URL:https://www.ashevillehabitat.org/event/restore-office-construction-sites-closed-3/
LOCATION:NC
END:VEVENT
END:VCALENDAR