BEGIN:VCALENDAR
VERSION:2.0
PRODID:-//Asheville Habitat for Humanity - ECPv6.15.18//NONSGML v1.0//EN
CALSCALE:GREGORIAN
METHOD:PUBLISH
X-WR-CALNAME:Asheville Habitat for Humanity
X-ORIGINAL-URL:https://www.ashevillehabitat.org
X-WR-CALDESC:Events for Asheville Habitat for Humanity
REFRESH-INTERVAL;VALUE=DURATION:PT1H
X-Robots-Tag:noindex
X-PUBLISHED-TTL:PT1H
BEGIN:VTIMEZONE
TZID:America/New_York
BEGIN:DAYLIGHT
TZOFFSETFROM:-0500
TZOFFSETTO:-0400
TZNAME:EDT
DTSTART:20140309T070000
END:DAYLIGHT
BEGIN:STANDARD
TZOFFSETFROM:-0400
TZOFFSETTO:-0500
TZNAME:EST
DTSTART:20141102T060000
END:STANDARD
BEGIN:DAYLIGHT
TZOFFSETFROM:-0500
TZOFFSETTO:-0400
TZNAME:EDT
DTSTART:20150308T070000
END:DAYLIGHT
BEGIN:STANDARD
TZOFFSETFROM:-0400
TZOFFSETTO:-0500
TZNAME:EST
DTSTART:20151101T060000
END:STANDARD
BEGIN:DAYLIGHT
TZOFFSETFROM:-0500
TZOFFSETTO:-0400
TZNAME:EDT
DTSTART:20160313T070000
END:DAYLIGHT
BEGIN:STANDARD
TZOFFSETFROM:-0400
TZOFFSETTO:-0500
TZNAME:EST
DTSTART:20161106T060000
END:STANDARD
END:VTIMEZONE
BEGIN:VEVENT
DTSTART;TZID=America/New_York:20151204T193000
DTEND;TZID=America/New_York:20151204T210000
DTSTAMP:20260424T055555
CREATED:20151117T050000Z
LAST-MODIFIED:20181220T160505Z
UID:10000003-1449257400-1449262800@www.ashevillehabitat.org
SUMMARY:Benefit Concert for Asheville Area Habitat for Humanity
DESCRIPTION:Once again\, local musician Aaron Price and West Asheville Presbyterian Church are hosting a concert with a great lineup of local musicians to benefit Asheville Area Habitat for Humanity! Admission is free and donations are accepted. \nFriday\, December 4th at 7:30pm at West Asheville Presbyterian Church \nThe lineup includes: \nKevin Smith and Planefolk \nPeggy Ratusz and Bygone Blues \nWhitney Moore \nBJ Leiderman \nValorie Miller \nAaron Price \nHanger Hall Glee Club \nMusicWorks Kindergarten Chorus \n  \nClick here to view a concert flyer.
URL:https://www.ashevillehabitat.org/event/benefit-concert-for-asheville-area-habitat-for-humanity/
LOCATION:CP-#10_Duath-Hamling-Eaton-Anon_1.15.17 (1)
CATEGORIES:Benefit
END:VEVENT
BEGIN:VEVENT
DTSTART;TZID=America/New_York:20151205T100000
DTEND;TZID=America/New_York:20151205T140000
DTSTAMP:20260424T055555
CREATED:20151026T040000Z
LAST-MODIFIED:20181220T160504Z
UID:10000001-1449309600-1449324000@www.ashevillehabitat.org
SUMMARY:Announcement of 3D Ornament Winner and Live 3D Printing Demo
DESCRIPTION:On December 5th at 10am in the upper showroom of the Habitat ReStore\, we’ll announce the winner of the 2nd Annual “Habitat for the Holidays: 3D Printed Ornament Contest”. The winning 3D ornament will be printed in multiples and will be available for sale (100% of proceeds benefit Asheville Area Habitat). From 10AM-2PM\, Spectra3D Technologies will hold a live 3D printing demonstration. Join the fun and take a look at various 3D printed obects–you’ll be amazed at what a 3D printer can produce! \n 
URL:https://www.ashevillehabitat.org/event/announcement-of-3d-ornament-winner-and-live-3d-printing-demo/
LOCATION:Photo-Dec-11-2-57-03-PM-1030×773
CATEGORIES:Benefit,ReStore
ATTACH;FMTTYPE=image/jpeg:https://www.ashevillehabitat.org/wp-content/uploads/2018/12/2015-3D-ContestWebBanner800x350BLOG.jpg
END:VEVENT
BEGIN:VEVENT
DTSTART;TZID=America/New_York:20151211T150000
DTEND;TZID=America/New_York:20151211T153000
DTSTAMP:20260424T055555
CREATED:20151130T050000Z
LAST-MODIFIED:20181220T160505Z
UID:10000004-1449846000-1449847800@www.ashevillehabitat.org
SUMMARY:Wall Raising for the 2015 Christmas Jam House
DESCRIPTION:Join us as we celebrate with Warren Haynes and his family\, this year’s Christmas Jam House partner family\, Before the Jam\, Lend a Hand volunteers and many community supporters! There will be a short speaking program\, followed by the raising of the first wall.
URL:https://www.ashevillehabitat.org/event/wall-raising-for-the-2015-christmas-jam-house/
LOCATION:CP#4-5_HomeownersHouse_3.9.16 (2)
END:VEVENT
BEGIN:VEVENT
DTSTART;TZID=America/New_York:20151212T190000
DTEND;TZID=America/New_York:20151213T030000
DTSTAMP:20260424T055555
CREATED:20151005T040000Z
LAST-MODIFIED:20181220T160504Z
UID:10000081-1449946800-1449975600@www.ashevillehabitat.org
SUMMARY:27th Annual Warren Haynes Presents: The Christmas Jam
DESCRIPTION:To date\, Warren Haynes Presents: the Christmas Jam has raised more than $1.8 million for Asheville Area Habitat for Humanity! Don’t miss the 2015 show! \nThe 27th Annual Christmas Jam will feature Warren Haynes\, Tedeschi Trucks Band\, The Doobie Brothers\,Joe Bonamassa\, Dawes\, Blackberry Smoke\, Electric Hot Tuna\, Bruce Hornsby\, and more! \nThe pre-sale\, including VIP tickets and travel packages\, begins Friday\, October 9th at 10am ET at XmasJam.com. The public on-sale begins October 23rd. Doors open at 6pm and the show begins at 7pm. \nXmas Jam By Day events and concerts will pop up around Asheville and Before The Jam Lend A Hand\, will also be in full force\, where volunteers can help build the houses made possible by Christmas Jam donations. Stay up-to-date on Christmas Jam info as more details are announced at the website XmasJam.com\, Facebook\, and Twitter.
URL:https://www.ashevillehabitat.org/event/27th-annual-warren-haynes-presents-the-christmas-jam/
LOCATION:North Carolina
CATEGORIES:Benefit
END:VEVENT
END:VCALENDAR