BEGIN:VCALENDAR
VERSION:2.0
PRODID:-//Asheville Habitat for Humanity - ECPv6.15.18//NONSGML v1.0//EN
CALSCALE:GREGORIAN
METHOD:PUBLISH
X-WR-CALNAME:Asheville Habitat for Humanity
X-ORIGINAL-URL:https://www.ashevillehabitat.org
X-WR-CALDESC:Events for Asheville Habitat for Humanity
REFRESH-INTERVAL;VALUE=DURATION:PT1H
X-Robots-Tag:noindex
X-PUBLISHED-TTL:PT1H
BEGIN:VTIMEZONE
TZID:America/New_York
BEGIN:DAYLIGHT
TZOFFSETFROM:-0500
TZOFFSETTO:-0400
TZNAME:EDT
DTSTART:20140309T070000
END:DAYLIGHT
BEGIN:STANDARD
TZOFFSETFROM:-0400
TZOFFSETTO:-0500
TZNAME:EST
DTSTART:20141102T060000
END:STANDARD
BEGIN:DAYLIGHT
TZOFFSETFROM:-0500
TZOFFSETTO:-0400
TZNAME:EDT
DTSTART:20150308T070000
END:DAYLIGHT
BEGIN:STANDARD
TZOFFSETFROM:-0400
TZOFFSETTO:-0500
TZNAME:EST
DTSTART:20151101T060000
END:STANDARD
BEGIN:DAYLIGHT
TZOFFSETFROM:-0500
TZOFFSETTO:-0400
TZNAME:EDT
DTSTART:20160313T070000
END:DAYLIGHT
BEGIN:STANDARD
TZOFFSETFROM:-0400
TZOFFSETTO:-0500
TZNAME:EST
DTSTART:20161106T060000
END:STANDARD
END:VTIMEZONE
BEGIN:VEVENT
DTSTART;TZID=America/New_York:20150109T120000
DTEND;TZID=America/New_York:20150109T130000
DTSTAMP:20260421T113015
CREATED:20150114T050000Z
LAST-MODIFIED:20181220T160450Z
UID:10000044-1420804800-1420808400@www.ashevillehabitat.org
SUMMARY:Holy Trinity / Zeis House Wall Raising
DESCRIPTION:On Friday\, January 9th at 12 noon in Asheville Area Habitat for Humanity’s Hudson Hills subdivision\, Habitat volunteers will raise the first wall of Lekisha Beamon’s future home.
URL:https://www.ashevillehabitat.org/event/holy-trinity-zeis-house-wall-raising/
LOCATION:CP#4-5_HomeownersHouse_3.9.16 (2)
CATEGORIES:Wall raising
END:VEVENT
BEGIN:VEVENT
DTSTART;TZID=America/New_York:20150124T090000
DTEND;TZID=America/New_York:20150124T130000
DTSTAMP:20260421T113015
CREATED:20150114T050000Z
LAST-MODIFIED:20181220T160450Z
UID:10000046-1422090000-1422104400@www.ashevillehabitat.org
SUMMARY:Habitat Student Build Workshop
DESCRIPTION:Private meeting for the student leaders and faculty involved in the Habitat Student Build House.\nNOT OPEN TO THE PUBLIC.
URL:https://www.ashevillehabitat.org/event/habitat-student-build-workshop/
LOCATION:#3 (4)
CATEGORIES:Private Event,Sponsorship
END:VEVENT
BEGIN:VEVENT
DTSTART;TZID=America/New_York:20150131T100000
DTEND;TZID=America/New_York:20150131T110000
DTSTAMP:20260421T113015
CREATED:20141031T040000Z
LAST-MODIFIED:20181220T160450Z
UID:10000039-1422698400-1422702000@www.ashevillehabitat.org
SUMMARY:Information Session for Homeownership
DESCRIPTION:Do you want to apply for a Habitat house? Come to an information session about our homeownership program! No pre-registration required\, but please note\, you must attend an information session before you can apply for homeownership. If this date doesn’t work for you\, see our calendar for additional dates. \nPlease note: in the case of inclement weather\, Habitat will follow Asheville City School closings. \n 
URL:https://www.ashevillehabitat.org/event/information-session-homeownership-6-2/
LOCATION:#3 (4)
CATEGORIES:Info Session
END:VEVENT
BEGIN:VEVENT
DTSTART;TZID=America/New_York:20150321T090000
DTEND;TZID=America/New_York:20150321T180000
DTSTAMP:20260421T113015
CREATED:20150114T050000Z
LAST-MODIFIED:20181220T160450Z
UID:10000049-1426928400-1426960800@www.ashevillehabitat.org
SUMMARY:MANNA Sale at the ReStore
DESCRIPTION:Bring 5 cans\, get 25% discount on purchases at the ReStore that day.
URL:https://www.ashevillehabitat.org/event/manna-sale-restore/
LOCATION:Photo-Dec-11-2-57-03-PM-1030×773
CATEGORIES:ReStore
END:VEVENT
BEGIN:VEVENT
DTSTART;TZID=America/New_York:20150327T133000
DTEND;TZID=America/New_York:20150327T140000
DTSTAMP:20260421T113015
CREATED:20150311T040000Z
LAST-MODIFIED:20181220T160450Z
UID:10000057-1427463000-1427464800@www.ashevillehabitat.org
SUMMARY:Habitat Student Build House #2 Wall Raising
DESCRIPTION:Students from Asheville Christian Academy\, Carolina Day School\, and Christ School are joining together to sponsor this house. The students\, together with Habitat staff\, volunteers\, and the future homeowner\, Tricia Wolfe and family\, will raise the first wall on this home on Friday\, March 27th at 1:30 in Habitat’s Hudson Hills subdivision in West Asheville. This event is open to the public.
URL:https://www.ashevillehabitat.org/event/habitat-student-build-house-2-wall-raising/
LOCATION:CP#4-5_HomeownersHouse_3.9.16 (2)
CATEGORIES:Sponsorship,Wall raising
END:VEVENT
END:VCALENDAR