BEGIN:VCALENDAR
VERSION:2.0
PRODID:-//Asheville Habitat for Humanity - ECPv6.15.18//NONSGML v1.0//EN
CALSCALE:GREGORIAN
METHOD:PUBLISH
X-WR-CALNAME:Asheville Habitat for Humanity
X-ORIGINAL-URL:https://www.ashevillehabitat.org
X-WR-CALDESC:Events for Asheville Habitat for Humanity
REFRESH-INTERVAL;VALUE=DURATION:PT1H
X-Robots-Tag:noindex
X-PUBLISHED-TTL:PT1H
BEGIN:VTIMEZONE
TZID:America/New_York
BEGIN:DAYLIGHT
TZOFFSETFROM:-0500
TZOFFSETTO:-0400
TZNAME:EDT
DTSTART:20190310T070000
END:DAYLIGHT
BEGIN:STANDARD
TZOFFSETFROM:-0400
TZOFFSETTO:-0500
TZNAME:EST
DTSTART:20191103T060000
END:STANDARD
BEGIN:DAYLIGHT
TZOFFSETFROM:-0500
TZOFFSETTO:-0400
TZNAME:EDT
DTSTART:20200308T070000
END:DAYLIGHT
BEGIN:STANDARD
TZOFFSETFROM:-0400
TZOFFSETTO:-0500
TZNAME:EST
DTSTART:20201101T060000
END:STANDARD
BEGIN:DAYLIGHT
TZOFFSETFROM:-0500
TZOFFSETTO:-0400
TZNAME:EDT
DTSTART:20210314T070000
END:DAYLIGHT
BEGIN:STANDARD
TZOFFSETFROM:-0400
TZOFFSETTO:-0500
TZNAME:EST
DTSTART:20211107T060000
END:STANDARD
BEGIN:DAYLIGHT
TZOFFSETFROM:-0500
TZOFFSETTO:-0400
TZNAME:EDT
DTSTART:20220313T070000
END:DAYLIGHT
BEGIN:STANDARD
TZOFFSETFROM:-0400
TZOFFSETTO:-0500
TZNAME:EST
DTSTART:20221106T060000
END:STANDARD
END:VTIMEZONE
BEGIN:VEVENT
DTSTART;TZID=America/New_York:20200308T140000
DTEND;TZID=America/New_York:20200308T180000
DTSTAMP:20260422T211731
CREATED:20200226T171452Z
LAST-MODIFIED:20200226T171452Z
UID:10000202-1583676000-1583690400@www.ashevillehabitat.org
SUMMARY:Women's Day Pop Up Shop at Ginger's Revenge
DESCRIPTION:15% of proceeds will go to the 2020 Asheville Habitat Women’s Build.
URL:https://www.ashevillehabitat.org/event/womens-day-pop-up-shop-at-gingers-revenge/
LOCATION:Ginger’s Revenge\, 829 Riverside Dr #100\, Asheville\, North Carolina\, 28801
END:VEVENT
BEGIN:VEVENT
DTSTART;TZID=America/New_York:20200314T183000
DTEND;TZID=America/New_York:20200314T213000
DTSTAMP:20260422T211731
CREATED:20200218T185027Z
LAST-MODIFIED:20200313T145745Z
UID:10000201-1584210600-1584221400@www.ashevillehabitat.org
SUMMARY:Reach New Heights! - A Dance Party for Women Build CANCELLED
DESCRIPTION:Proudly announcing the Fourth Annual Singalong and Dance Party FUNdraiser for Asheville Area Habitat for Humanity’s Women Build House #15! This house will be built in New Heights\, our newest and largest housing community to date. \nLearn more and reserve your free ticket today.
URL:https://www.ashevillehabitat.org/event/reach-new-heights-a-dance-party-for-women-build/
LOCATION:Trinity Episcopal Church of Asheville
CATEGORIES:Benefit,Public Event
END:VEVENT
BEGIN:VEVENT
DTSTART;TZID=America/New_York:20200317T150000
DTEND;TZID=America/New_York:20200317T160000
DTSTAMP:20260422T211731
CREATED:20200226T171816Z
LAST-MODIFIED:20200312T151241Z
UID:10000203-1584457200-1584460800@www.ashevillehabitat.org
SUMMARY:3 Home Kickoff Celebration- POSTPONED
DESCRIPTION:Homes to be Celebrated in the Kickoffs: \nSherika Lenoir – Legacy Builders House#4  \nBrittany Whitmire – BoA/AvL Technologies  \nNikkell Compton – The Fisher-Potter House 
URL:https://www.ashevillehabitat.org/event/3-home-kickoff-celebration/
LOCATION:Asheville Habitat ReStore\, 31 Meadow Rd.\, Asheville\, NC\, 28803
END:VEVENT
BEGIN:VEVENT
DTSTART;TZID=America/New_York:20200323T170000
DTEND;TZID=America/New_York:20200323T220000
DTSTAMP:20260422T211731
CREATED:20200226T172002Z
LAST-MODIFIED:20200317T183942Z
UID:10000204-1584982800-1585000800@www.ashevillehabitat.org
SUMMARY:Hillman Beer Pint Night for Women's Build-CANCELLED
DESCRIPTION:
URL:https://www.ashevillehabitat.org/event/hillman-beer-pint-night-for-womens-build/
LOCATION:Hillman Beer\, 25 Sweeten Creek Rd.\, Asheville\, NC\, 28803\, United States
GEO:35.5650655;-82.5371383
X-APPLE-STRUCTURED-LOCATION;VALUE=URI;X-ADDRESS=Hillman Beer 25 Sweeten Creek Rd. Asheville NC 28803 United States;X-APPLE-RADIUS=500;X-TITLE=25 Sweeten Creek Rd.:geo:-82.5371383,35.5650655
END:VEVENT
BEGIN:VEVENT
DTSTART;TZID=America/New_York:20200329T110000
DTEND;TZID=America/New_York:20200329T210000
DTSTAMP:20260422T211731
CREATED:20200226T172240Z
LAST-MODIFIED:20200317T180443Z
UID:10000205-1585479600-1585515600@www.ashevillehabitat.org
SUMMARY:Dine for Habitat at Rezaz-CANCELLED
DESCRIPTION:All day dine out: 20% of Rezaz daily proceeds go to Asheville Habitat for Humanity. \nBrunch 11am-2pm and dinner 5-9pm.
URL:https://www.ashevillehabitat.org/event/dine-for-habitat-at-rezaz/
LOCATION:Rezaz\, 28 Hendersonville Rd\, Asheville\, 28803
GEO:35.5676874;-82.5436774
X-APPLE-STRUCTURED-LOCATION;VALUE=URI;X-ADDRESS=Rezaz 28 Hendersonville Rd Asheville 28803;X-APPLE-RADIUS=500;X-TITLE=28 Hendersonville Rd:geo:-82.5436774,35.5676874
END:VEVENT
BEGIN:VEVENT
DTSTART;VALUE=DATE:20200720
DTEND;VALUE=DATE:20200803
DTSTAMP:20260422T211731
CREATED:20200720T161258Z
LAST-MODIFIED:20200720T161258Z
UID:10000206-1595203200-1596412799@www.ashevillehabitat.org
SUMMARY:Have a pint for Habitat
DESCRIPTION:For two weeks\, Hillman Beer will donate $1 for every Roggenbier pour to Asheville Habitat’s Women Build House #15! This ends August 3
URL:https://www.ashevillehabitat.org/event/have-a-pint-for-habitat/
LOCATION:Hillman Beer\, 25 Sweeten Creek Rd.\, Asheville\, NC\, 28803\, United States
CATEGORIES:Benefit,Public Event
GEO:35.5650655;-82.5371383
X-APPLE-STRUCTURED-LOCATION;VALUE=URI;X-ADDRESS=Hillman Beer 25 Sweeten Creek Rd. Asheville NC 28803 United States;X-APPLE-RADIUS=500;X-TITLE=25 Sweeten Creek Rd.:geo:-82.5371383,35.5650655
END:VEVENT
BEGIN:VEVENT
DTSTART;TZID=America/New_York:20200917T120000
DTEND;TZID=America/New_York:20200917T200000
DTSTAMP:20260422T211731
CREATED:20200824T130040Z
LAST-MODIFIED:20200914T121908Z
UID:10000207-1600344000-1600372800@www.ashevillehabitat.org
SUMMARY:Blue Mountain Pizza Fundraiser
DESCRIPTION:Blue Mountain Pizza in Weaverville has designated Asheville Habitat as the beneficiary of it’s “Third Thursday Fundraiser” in September. 10% of proceeds from sales on September 17 will be donated to us! Currently\, Take-Out only. Visit their website to see the menu and place your order on Thursday\, September 17th!
URL:https://www.ashevillehabitat.org/event/blue-moon-pizza-fundraiser/
LOCATION:Blue Mountain Pizza\, 55 North Main St\, Weaverville\, NC\, 28757
CATEGORIES:Benefit,Public Event
ATTACH;FMTTYPE=image/jpeg:https://www.ashevillehabitat.org/wp-content/uploads/2020/08/pizza-3007395_1280.jpg
END:VEVENT
BEGIN:VEVENT
DTSTART;VALUE=DATE:20210315
DTEND;VALUE=DATE:20210316
DTSTAMP:20260422T211731
CREATED:20210301T165949Z
LAST-MODIFIED:20210302T162840Z
UID:10000208-1615766400-1615852799@www.ashevillehabitat.org
SUMMARY:Power in Pints
DESCRIPTION:Come out for a pint or two to support Asheville Area Habitat for Humanity! \n$1 for every Hillman beer draft sold this day will be donated specifically to the Women’s Build House since it is Women’s History Month.
URL:https://www.ashevillehabitat.org/event/power-in-pints/
LOCATION:Hillman Beer\, 25 Sweeten Creek Rd.\, Asheville\, NC\, 28803\, United States
CATEGORIES:Benefit,Public Event
GEO:35.5650655;-82.5371383
X-APPLE-STRUCTURED-LOCATION;VALUE=URI;X-ADDRESS=Hillman Beer 25 Sweeten Creek Rd. Asheville NC 28803 United States;X-APPLE-RADIUS=500;X-TITLE=25 Sweeten Creek Rd.:geo:-82.5371383,35.5650655
END:VEVENT
BEGIN:VEVENT
DTSTART;TZID=America/New_York:20210323T080000
DTEND;TZID=America/New_York:20210323T170000
DTSTAMP:20260422T211731
CREATED:20210304T172137Z
LAST-MODIFIED:20210304T172137Z
UID:10000209-1616486400-1616518800@www.ashevillehabitat.org
SUMMARY:Grant Laughter Jewelry Buy-Back Event
DESCRIPTION:Help Asheville Habitat build homes by selling your “previously loved but no longer wanted” jewelry\, gold\, silver\, diamonds\, gemstones\, coins\, flatware\, and collectibles. \nHow? \nBring your unwanted items to be appraised at the Grant Laughter Jewelry Buy-Back Event on Tuesday\, March 23. Appraisal appointments are completely free and there is no obligation to sell. You will receive an immediate offer to purchase and payment. Should you choose to sell\, you will have the option to make a donation of part or all of the proceeds to Asheville Habitat. Visit this page to schedule a personal appointments\, following Covid safety protocols. \nAll jewelry will be evaluated\, from Timex watches to Rolex and Cartier\, from scrap gold broken chains to designer jewelry and one of a kind pieces. “Often times people assume their old gold broken chain is worthless when in actuality its worth thousands\,” shared Grant Laughter. No jewelry will be turned away at this event\, so bring in what you’ve got\, including costume jewelry. Additionally\, old coins from a safety deposit box\, diamonds\, silver and gold bullion\, tableware and flatware can also be evaluated. \nWhy? \nMore than ever\, affordable housing is needed in our community and Asheville Habitat has been building new affordable homes and repairing existing ones for nearly four decades. Should you choose to sell\, select to donate a portion of the proceeds to Asheville Habitat and you will help more local families in need of stable\, affordable housing.
URL:https://www.ashevillehabitat.org/event/grant-laughter-jewelry-buy-back-event/
LOCATION:Grant Laughter Jewelry\, 1800 Hendersonville Rd\, Asheville\, 28803\, United States
CATEGORIES:Benefit
END:VEVENT
END:VCALENDAR