BEGIN:VCALENDAR
VERSION:2.0
PRODID:-//Asheville Habitat for Humanity - ECPv6.15.18//NONSGML v1.0//EN
CALSCALE:GREGORIAN
METHOD:PUBLISH
X-WR-CALNAME:Asheville Habitat for Humanity
X-ORIGINAL-URL:https://www.ashevillehabitat.org
X-WR-CALDESC:Events for Asheville Habitat for Humanity
REFRESH-INTERVAL;VALUE=DURATION:PT1H
X-Robots-Tag:noindex
X-PUBLISHED-TTL:PT1H
BEGIN:VTIMEZONE
TZID:America/New_York
BEGIN:DAYLIGHT
TZOFFSETFROM:-0500
TZOFFSETTO:-0400
TZNAME:EDT
DTSTART:20180311T070000
END:DAYLIGHT
BEGIN:STANDARD
TZOFFSETFROM:-0400
TZOFFSETTO:-0500
TZNAME:EST
DTSTART:20181104T060000
END:STANDARD
BEGIN:DAYLIGHT
TZOFFSETFROM:-0500
TZOFFSETTO:-0400
TZNAME:EDT
DTSTART:20190310T070000
END:DAYLIGHT
BEGIN:STANDARD
TZOFFSETFROM:-0400
TZOFFSETTO:-0500
TZNAME:EST
DTSTART:20191103T060000
END:STANDARD
BEGIN:DAYLIGHT
TZOFFSETFROM:-0500
TZOFFSETTO:-0400
TZNAME:EDT
DTSTART:20200308T070000
END:DAYLIGHT
BEGIN:STANDARD
TZOFFSETFROM:-0400
TZOFFSETTO:-0500
TZNAME:EST
DTSTART:20201101T060000
END:STANDARD
BEGIN:DAYLIGHT
TZOFFSETFROM:-0500
TZOFFSETTO:-0400
TZNAME:EDT
DTSTART:20210314T070000
END:DAYLIGHT
BEGIN:STANDARD
TZOFFSETFROM:-0400
TZOFFSETTO:-0500
TZNAME:EST
DTSTART:20211107T060000
END:STANDARD
END:VTIMEZONE
BEGIN:VEVENT
DTSTART;TZID=America/New_York:20191023T180000
DTEND;TZID=America/New_York:20191023T200000
DTSTAMP:20260423T033227
CREATED:20191010T135147Z
LAST-MODIFIED:20191010T135147Z
UID:10000191-1571853600-1571860800@www.ashevillehabitat.org
SUMMARY:Ruth Bader Ginsberg Trivia Night
DESCRIPTION:Join us and Asheville Area Habitat for Humanity for a night of Fun & Fundraising!\nWe’ll be playing some trivia based on Ruth Bader Ginsburg. \n10% of the Event Sales will be Donated to\nAsheville Area Habitat for Humanity.
URL:https://www.ashevillehabitat.org/event/ruth-bader-ginsberg-trivia-night/
LOCATION:The Casual Pint\, 1863 Hendersonville Rd\, Asheville\, NC\, 28803
END:VEVENT
BEGIN:VEVENT
DTSTART;TZID=America/New_York:20191102T090000
DTEND;TZID=America/New_York:20191102T110000
DTSTAMP:20260423T033227
CREATED:20191010T140859Z
LAST-MODIFIED:20191010T175206Z
UID:10000192-1572685200-1572692400@www.ashevillehabitat.org
SUMMARY:Reems Creek Beech Presbyterian 5K
DESCRIPTION:Is hosting their 3rd annual Halloween 5k & Family Fun Run on Nov. 2nd\, 2019.\nRegistration starts at 8:30 am. Race starts at 9 am.\nPrizes for best individual costume and best couples costume.\nProceeds to benefit Habitat for Humanity.\nRegister thru Eventbrite by visiting our church web page at\nWWW.RCBPCHURCH.ORG
URL:https://www.ashevillehabitat.org/event/reems-creek-beech-presbyterian-5k/
LOCATION:Reems Creek Presbyterian Beech\, 4 Sugar Cove Rd\, Weaverville\, NC\, 28787
END:VEVENT
BEGIN:VEVENT
DTSTART;TZID=America/New_York:20191106T063000
DTEND;TZID=America/New_York:20191106T213000
DTSTAMP:20260423T033227
CREATED:20191010T175451Z
LAST-MODIFIED:20191010T175451Z
UID:10000193-1573021800-1573075800@www.ashevillehabitat.org
SUMMARY:Christmas Jam Ale Release Party ft. The Dip
DESCRIPTION:It’s that time of year folks!! We’re brewing a batch of our seasonal Christmas Jam Session Ale and we’re throwing a party to celebrate!! Live music by The Dip and Erin and the Wildfire!! Habitat for Humanity will be joining us and to talk about all the great things they do and take donations!! \nThe Dip: \nHailing from Seattle\, The Dip is an electrifying seven-piece ensemble that melds vintage rhythm and blues and modern pop with ‘60s soul. Hard-hitting but sensitive\, The Dip harkens back to the deep soul roots of decades past while sounding undeniably relevant. The band’s 2015 self-titled debut\, recorded to tape at Avast! Studios\, propelled them to notable appearances at Sasquatch! Music Festival\, High Sierra Music Fest\, Summer Meltdown and Capitol Hill Block Party\, paving the way for their latest release\, Won’t Be Coming Back. There’s a certain alchemy to The Dip that unites music fans of all ages and backgrounds and leaves everyone smiling ear to ear. \nErin and the Wildfire: \nPowerful vocals. Infectious hooks. Sensual harmonies. Snacks.\nErin & the Wildfire combine elements of funk\, soul\, and R&B into a unique experience for fans. Featuring the core four: Matt Wood (bass)\, Ryan Lipps (guitar)\, Nick Quillen (drums) and Erin Lunsford (vocals) – who’ve been together since college\, evolving their sound for six years – and a rotating menagerie of talented musicians out of Virginia.\nThe lyrical content comes from Lunsford’s life\, loves\, and the passions of her and the rest of the Wildfire – including those of female solidarity\, body positivity\, and pizza. The demanding presence of Lunsford’s voice\, combined with the talent and charm of Quillen\, Lipps\, and Wood\, makes for a high energy\, inspiring performance that stays with you until the next time.\n“Each show feels like it’s the next and last chance to explain ourselves –another chance to connect with the audience to speak our truth. We hope that people seeing us for the first time (and repeat viewers!) feel appreciated and comfortable and we hope they feel inspired by the tunes.” Lunsford\, “The Young Folks” \nFood and beer available for purchase. \nTickets: $12 in advance\, $15 day of the show. \nFAQ: \n\nIs this event all ages? Yes.\nMust have a ticket to enter. If the event is not sold out\, we will have tickets for sale at the door.\n\n\n\n\n\n\n\n\n\n\n\n\n\n\n\n\n\n\n\n 
URL:https://www.ashevillehabitat.org/event/christmas-jam-ale-release-party-ft-the-dip/
END:VEVENT
BEGIN:VEVENT
DTSTART;TZID=America/New_York:20191213T190000
DTEND;TZID=America/New_York:20191213T233000
DTSTAMP:20260423T033227
CREATED:20191209T150913Z
LAST-MODIFIED:20191209T151631Z
UID:10000194-1576263600-1576279800@www.ashevillehabitat.org
SUMMARY:Holidaze for Habitat
DESCRIPTION:A benefit concert for Asheville Habitat hosted by WNCW – featuring Drivin n’ Cryin\, plus Unspoken Tradition\, Darin and Brooke Aldridge\, Bobby Miller and the Virginia Daredevils\, Ashley Heath and Her Heathens\, and Mike Barnes and Friends. Tickets are just $25 and available here.
URL:https://www.ashevillehabitat.org/event/holidaze-for-habitat/
LOCATION:The Orange Peel\, 101 Biltmore Ave\, Asheville\, NC\, 28801
GEO:35.5913916;-82.5511425
X-APPLE-STRUCTURED-LOCATION;VALUE=URI;X-ADDRESS=The Orange Peel 101 Biltmore Ave Asheville NC 28801;X-APPLE-RADIUS=500;X-TITLE=101 Biltmore Ave:geo:-82.5511425,35.5913916
END:VEVENT
BEGIN:VEVENT
DTSTART;TZID=America/New_York:20200121T180000
DTEND;TZID=America/New_York:20200121T190000
DTSTAMP:20260423T033227
CREATED:20200110T205415Z
LAST-MODIFIED:20200110T210050Z
UID:10000197-1579629600-1579633200@www.ashevillehabitat.org
SUMMARY:Homeownership Information Session - 6pm
DESCRIPTION:Come learn more about Habitat’s affordable homeownership program\, and whether it’s right for you\, in this 1-hour Info Session. A staff member will be available to work with you one-on-one to get your application started (after the presentation)\, if you bring proof of income with you. \nNo pre-registration required. Questions? Call 828-251-5702.
URL:https://www.ashevillehabitat.org/event/homeownership-information-session-6pm/
LOCATION:Asheville Habitat Administrative Office\, 33 Meadow Road\, Asheville\, NC\, 28803\, United States
CATEGORIES:Info Session,Public Event
GEO:35.568287;-82.54854
X-APPLE-STRUCTURED-LOCATION;VALUE=URI;X-ADDRESS=Asheville Habitat Administrative Office 33 Meadow Road Asheville NC 28803 United States;X-APPLE-RADIUS=500;X-TITLE=33 Meadow Road:geo:-82.54854,35.568287
END:VEVENT
BEGIN:VEVENT
DTSTART;TZID=America/New_York:20200130T113000
DTEND;TZID=America/New_York:20200130T210000
DTSTAMP:20260423T033227
CREATED:20200110T204801Z
LAST-MODIFIED:20200110T210009Z
UID:10000195-1580383800-1580418000@www.ashevillehabitat.org
SUMMARY:Dine Out for Ethiopia - Addissea
DESCRIPTION:On Thursday\, January 30 Addissea Ethiopian Restaurant will donate 10% of the day’s proceeds towards our Global Village Trip to Ethiopia happening in February. We have a team of 12 volunteers headed there to work with Habitat for Habitat Ethiopia as they strive to create more safe\, decent housing in their community. \nLunch hours: 11:30-3:00. Dinner hours: 5:00-9:00
URL:https://www.ashevillehabitat.org/event/dine-out-for-ethiopia-addissea/
LOCATION:Addissae Ethiopian Restaurant\, 48 Commerce St.\, Asheville\, NC\, 28801
CATEGORIES:Benefit,Public Event
END:VEVENT
BEGIN:VEVENT
DTSTART;TZID=America/New_York:20200201T100000
DTEND;TZID=America/New_York:20200201T110000
DTSTAMP:20260423T033227
CREATED:20200110T205631Z
LAST-MODIFIED:20200110T205631Z
UID:10000198-1580551200-1580554800@www.ashevillehabitat.org
SUMMARY:Homeownership Information Session - 10am
DESCRIPTION:Come learn more about Habitat’s affordable homeownership program\, and whether it’s right for you\, in this 1-hour Info Session. A staff member will be available to work with you one-on-one to get your application started (after the presentation)\, if you bring proof of income with you. \nNo pre-registration required. Questions? Call 828-251-5702.
URL:https://www.ashevillehabitat.org/event/homeownership-information-session-10am/
LOCATION:Asheville Habitat Administrative Office\, 33 Meadow Road\, Asheville\, NC\, 28803\, United States
CATEGORIES:Info Session,Public Event
GEO:35.568287;-82.54854
X-APPLE-STRUCTURED-LOCATION;VALUE=URI;X-ADDRESS=Asheville Habitat Administrative Office 33 Meadow Road Asheville NC 28803 United States;X-APPLE-RADIUS=500;X-TITLE=33 Meadow Road:geo:-82.54854,35.568287
END:VEVENT
BEGIN:VEVENT
DTSTART;TZID=America/New_York:20200205T180000
DTEND;TZID=America/New_York:20200205T190000
DTSTAMP:20260423T033227
CREATED:20200110T210431Z
LAST-MODIFIED:20200110T210431Z
UID:10000199-1580925600-1580929200@www.ashevillehabitat.org
SUMMARY:Homeownership Information Session - 6pm
DESCRIPTION:Come learn more about Habitat’s affordable homeownership program\, and whether it’s right for you\, in this 1-hour Info Session. A staff member will be available to work with you one-on-one to get your application started (after the presentation)\, if you bring proof of income with you. \nNo pre-registration required. Questions? Call 828-251-5702.
URL:https://www.ashevillehabitat.org/event/homeownership-information-session-6pm-2/
LOCATION:Asheville Habitat Administrative Office\, 33 Meadow Road\, Asheville\, NC\, 28803\, United States
CATEGORIES:Info Session,Public Event
GEO:35.568287;-82.54854
X-APPLE-STRUCTURED-LOCATION;VALUE=URI;X-ADDRESS=Asheville Habitat Administrative Office 33 Meadow Road Asheville NC 28803 United States;X-APPLE-RADIUS=500;X-TITLE=33 Meadow Road:geo:-82.54854,35.568287
END:VEVENT
BEGIN:VEVENT
DTSTART;TZID=America/New_York:20200210T170000
DTEND;TZID=America/New_York:20200210T210000
DTSTAMP:20260423T033227
CREATED:20200110T203007Z
LAST-MODIFIED:20200110T205819Z
UID:10000196-1581354000-1581368400@www.ashevillehabitat.org
SUMMARY:Habitat Night at Native Kitchen
DESCRIPTION:Native Kitchen will be donating 25% of food sales on Monday\, February 10. They’re open from 5-9pm. \nMight we suggest an early Valentine’s date night! Or a girls night out! Or just a “I don’t want to cook tonight and I want to help Habitat” night out!
URL:https://www.ashevillehabitat.org/event/habitat-night-at-native-kitchen/
LOCATION:Native Kitchen\, 204 Whitson Ave\, Swannanoa\, 28778\, United States
CATEGORIES:Benefit,Public Event
END:VEVENT
BEGIN:VEVENT
DTSTART;TZID=America/New_York:20200216T140000
DTEND;TZID=America/New_York:20200216T150000
DTSTAMP:20260423T033227
CREATED:20200110T210605Z
LAST-MODIFIED:20200110T211602Z
UID:10000200-1581861600-1581865200@www.ashevillehabitat.org
SUMMARY:Homeownership Information Session - 2pm
DESCRIPTION:Come learn more about Habitat’s affordable homeownership program\, and whether it’s right for you\, in this 1-hour Info Session. A staff member will be available to work with you one-on-one to get your application started (after the presentation)\, if you bring proof of income with you. \nNo pre-registration required. Questions? Call 828-251-5702.
URL:https://www.ashevillehabitat.org/event/homeownership-information-session-2pm/
LOCATION:Asheville Habitat Administrative Office\, 33 Meadow Road\, Asheville\, NC\, 28803\, United States
CATEGORIES:Info Session,Public Event
GEO:35.568287;-82.54854
X-APPLE-STRUCTURED-LOCATION;VALUE=URI;X-ADDRESS=Asheville Habitat Administrative Office 33 Meadow Road Asheville NC 28803 United States;X-APPLE-RADIUS=500;X-TITLE=33 Meadow Road:geo:-82.54854,35.568287
END:VEVENT
BEGIN:VEVENT
DTSTART;TZID=America/New_York:20200308T140000
DTEND;TZID=America/New_York:20200308T180000
DTSTAMP:20260423T033227
CREATED:20200226T171452Z
LAST-MODIFIED:20200226T171452Z
UID:10000202-1583676000-1583690400@www.ashevillehabitat.org
SUMMARY:Women's Day Pop Up Shop at Ginger's Revenge
DESCRIPTION:15% of proceeds will go to the 2020 Asheville Habitat Women’s Build.
URL:https://www.ashevillehabitat.org/event/womens-day-pop-up-shop-at-gingers-revenge/
LOCATION:Ginger’s Revenge\, 829 Riverside Dr #100\, Asheville\, North Carolina\, 28801
END:VEVENT
BEGIN:VEVENT
DTSTART;TZID=America/New_York:20200314T183000
DTEND;TZID=America/New_York:20200314T213000
DTSTAMP:20260423T033227
CREATED:20200218T185027Z
LAST-MODIFIED:20200313T145745Z
UID:10000201-1584210600-1584221400@www.ashevillehabitat.org
SUMMARY:Reach New Heights! - A Dance Party for Women Build CANCELLED
DESCRIPTION:Proudly announcing the Fourth Annual Singalong and Dance Party FUNdraiser for Asheville Area Habitat for Humanity’s Women Build House #15! This house will be built in New Heights\, our newest and largest housing community to date. \nLearn more and reserve your free ticket today.
URL:https://www.ashevillehabitat.org/event/reach-new-heights-a-dance-party-for-women-build/
LOCATION:Trinity Episcopal Church of Asheville
CATEGORIES:Benefit,Public Event
END:VEVENT
BEGIN:VEVENT
DTSTART;TZID=America/New_York:20200317T150000
DTEND;TZID=America/New_York:20200317T160000
DTSTAMP:20260423T033227
CREATED:20200226T171816Z
LAST-MODIFIED:20200312T151241Z
UID:10000203-1584457200-1584460800@www.ashevillehabitat.org
SUMMARY:3 Home Kickoff Celebration- POSTPONED
DESCRIPTION:Homes to be Celebrated in the Kickoffs: \nSherika Lenoir – Legacy Builders House#4  \nBrittany Whitmire – BoA/AvL Technologies  \nNikkell Compton – The Fisher-Potter House 
URL:https://www.ashevillehabitat.org/event/3-home-kickoff-celebration/
LOCATION:Asheville Habitat ReStore\, 31 Meadow Rd.\, Asheville\, NC\, 28803
END:VEVENT
BEGIN:VEVENT
DTSTART;TZID=America/New_York:20200323T170000
DTEND;TZID=America/New_York:20200323T220000
DTSTAMP:20260423T033227
CREATED:20200226T172002Z
LAST-MODIFIED:20200317T183942Z
UID:10000204-1584982800-1585000800@www.ashevillehabitat.org
SUMMARY:Hillman Beer Pint Night for Women's Build-CANCELLED
DESCRIPTION:
URL:https://www.ashevillehabitat.org/event/hillman-beer-pint-night-for-womens-build/
LOCATION:Hillman Beer\, 25 Sweeten Creek Rd.\, Asheville\, NC\, 28803\, United States
GEO:35.5650655;-82.5371383
X-APPLE-STRUCTURED-LOCATION;VALUE=URI;X-ADDRESS=Hillman Beer 25 Sweeten Creek Rd. Asheville NC 28803 United States;X-APPLE-RADIUS=500;X-TITLE=25 Sweeten Creek Rd.:geo:-82.5371383,35.5650655
END:VEVENT
BEGIN:VEVENT
DTSTART;TZID=America/New_York:20200329T110000
DTEND;TZID=America/New_York:20200329T210000
DTSTAMP:20260423T033227
CREATED:20200226T172240Z
LAST-MODIFIED:20200317T180443Z
UID:10000205-1585479600-1585515600@www.ashevillehabitat.org
SUMMARY:Dine for Habitat at Rezaz-CANCELLED
DESCRIPTION:All day dine out: 20% of Rezaz daily proceeds go to Asheville Habitat for Humanity. \nBrunch 11am-2pm and dinner 5-9pm.
URL:https://www.ashevillehabitat.org/event/dine-for-habitat-at-rezaz/
LOCATION:Rezaz\, 28 Hendersonville Rd\, Asheville\, 28803
GEO:35.5676874;-82.5436774
X-APPLE-STRUCTURED-LOCATION;VALUE=URI;X-ADDRESS=Rezaz 28 Hendersonville Rd Asheville 28803;X-APPLE-RADIUS=500;X-TITLE=28 Hendersonville Rd:geo:-82.5436774,35.5676874
END:VEVENT
BEGIN:VEVENT
DTSTART;VALUE=DATE:20200720
DTEND;VALUE=DATE:20200803
DTSTAMP:20260423T033227
CREATED:20200720T161258Z
LAST-MODIFIED:20200720T161258Z
UID:10000206-1595203200-1596412799@www.ashevillehabitat.org
SUMMARY:Have a pint for Habitat
DESCRIPTION:For two weeks\, Hillman Beer will donate $1 for every Roggenbier pour to Asheville Habitat’s Women Build House #15! This ends August 3
URL:https://www.ashevillehabitat.org/event/have-a-pint-for-habitat/
LOCATION:Hillman Beer\, 25 Sweeten Creek Rd.\, Asheville\, NC\, 28803\, United States
CATEGORIES:Benefit,Public Event
GEO:35.5650655;-82.5371383
X-APPLE-STRUCTURED-LOCATION;VALUE=URI;X-ADDRESS=Hillman Beer 25 Sweeten Creek Rd. Asheville NC 28803 United States;X-APPLE-RADIUS=500;X-TITLE=25 Sweeten Creek Rd.:geo:-82.5371383,35.5650655
END:VEVENT
BEGIN:VEVENT
DTSTART;TZID=America/New_York:20200917T120000
DTEND;TZID=America/New_York:20200917T200000
DTSTAMP:20260423T033227
CREATED:20200824T130040Z
LAST-MODIFIED:20200914T121908Z
UID:10000207-1600344000-1600372800@www.ashevillehabitat.org
SUMMARY:Blue Mountain Pizza Fundraiser
DESCRIPTION:Blue Mountain Pizza in Weaverville has designated Asheville Habitat as the beneficiary of it’s “Third Thursday Fundraiser” in September. 10% of proceeds from sales on September 17 will be donated to us! Currently\, Take-Out only. Visit their website to see the menu and place your order on Thursday\, September 17th!
URL:https://www.ashevillehabitat.org/event/blue-moon-pizza-fundraiser/
LOCATION:Blue Mountain Pizza\, 55 North Main St\, Weaverville\, NC\, 28757
CATEGORIES:Benefit,Public Event
ATTACH;FMTTYPE=image/jpeg:https://www.ashevillehabitat.org/wp-content/uploads/2020/08/pizza-3007395_1280.jpg
END:VEVENT
END:VCALENDAR