BEGIN:VCALENDAR
VERSION:2.0
PRODID:-//Asheville Habitat for Humanity - ECPv6.15.18//NONSGML v1.0//EN
CALSCALE:GREGORIAN
METHOD:PUBLISH
X-WR-CALNAME:Asheville Habitat for Humanity
X-ORIGINAL-URL:https://www.ashevillehabitat.org
X-WR-CALDESC:Events for Asheville Habitat for Humanity
REFRESH-INTERVAL;VALUE=DURATION:PT1H
X-Robots-Tag:noindex
X-PUBLISHED-TTL:PT1H
BEGIN:VTIMEZONE
TZID:America/New_York
BEGIN:DAYLIGHT
TZOFFSETFROM:-0500
TZOFFSETTO:-0400
TZNAME:EDT
DTSTART:20180311T070000
END:DAYLIGHT
BEGIN:STANDARD
TZOFFSETFROM:-0400
TZOFFSETTO:-0500
TZNAME:EST
DTSTART:20181104T060000
END:STANDARD
BEGIN:DAYLIGHT
TZOFFSETFROM:-0500
TZOFFSETTO:-0400
TZNAME:EDT
DTSTART:20190310T070000
END:DAYLIGHT
BEGIN:STANDARD
TZOFFSETFROM:-0400
TZOFFSETTO:-0500
TZNAME:EST
DTSTART:20191103T060000
END:STANDARD
BEGIN:DAYLIGHT
TZOFFSETFROM:-0500
TZOFFSETTO:-0400
TZNAME:EDT
DTSTART:20200308T070000
END:DAYLIGHT
BEGIN:STANDARD
TZOFFSETFROM:-0400
TZOFFSETTO:-0500
TZNAME:EST
DTSTART:20201101T060000
END:STANDARD
END:VTIMEZONE
BEGIN:VEVENT
DTSTART;TZID=America/New_York:20190323T183000
DTEND;TZID=America/New_York:20190323T210000
DTSTAMP:20260424T114935
CREATED:20190226T201801Z
LAST-MODIFIED:20190226T201801Z
UID:10000082-1553365800-1553374800@www.ashevillehabitat.org
SUMMARY:Rock The House - Third Annual Singalong and Dance Party
DESCRIPTION:The Women Build Advocacy Team (WomBATs) proudly announces the Third Annual Singalong and Dance Party fundraiser for Asheville Area Habitat for Humanity’s 14th Women Build House ! \nJoin us as we hear live music from the band The Flashbacks\, covering songs from the 60’s and 70’s that will make you want to sing–and–dance along. \nIt’s free to attend this event\, but we will be asking you to make a donation in support of Women Build. We’re going to have lots of fun ways for you to make donations large and small\, so bring your wallets as well as your dancing shoes! \nHor d’oeuvres and sweets will be served\, along with wine and beer (cash bar). Two drinks are on us. \nDoors open at 6:30 for food and mingling. Music starts at 7:00. \nThis is a FREE event\, but there are a limited number of tickets available so please REGISTER to be sure you’ll be where it’s happening!
URL:https://www.ashevillehabitat.org/event/rock-the-house-third-annual-singalong-and-dance-party/
LOCATION:Trinity Episcopal Church of Asheville
CATEGORIES:Benefit,Public Event
END:VEVENT
BEGIN:VEVENT
DTSTART;VALUE=DATE:20190325
DTEND;VALUE=DATE:20190326
DTSTAMP:20260424T114935
CREATED:20190226T204640Z
LAST-MODIFIED:20190312T195730Z
UID:10000085-1553472000-1553558399@www.ashevillehabitat.org
SUMMARY:Power in a Pint - Hillman Pint Night for AAHH
DESCRIPTION:Join us March 25th for Pint Night at Hillman Beer. \nProceeds are designated to this year’s Women Build house! \n \n 
URL:https://www.ashevillehabitat.org/event/hillman-pint-night/
LOCATION:Hillman Beer\, 25 Sweeten Creek Rd.\, Asheville\, NC\, 28803\, United States
CATEGORIES:Benefit
GEO:35.5650655;-82.5371383
X-APPLE-STRUCTURED-LOCATION;VALUE=URI;X-ADDRESS=Hillman Beer 25 Sweeten Creek Rd. Asheville NC 28803 United States;X-APPLE-RADIUS=500;X-TITLE=25 Sweeten Creek Rd.:geo:-82.5371383,35.5650655
END:VEVENT
BEGIN:VEVENT
DTSTART;TZID=America/New_York:20190422T160000
DTEND;TZID=America/New_York:20190422T180000
DTSTAMP:20260424T114935
CREATED:20190408T195551Z
LAST-MODIFIED:20190408T195551Z
UID:10000087-1555948800-1555956000@www.ashevillehabitat.org
SUMMARY:Earth Day Plant Swap
DESCRIPTION:Join us on Earth Day\, Monday April 22\, from 4-6pm at the Asheville Habitat ReStore for a Plant Swap! Bring your seedlings\, starts\, cuttings\, and extra plants to swap with others. BYOP (bring your own pots) or buy some at the ReStore (limited quantity available). Limited amounts of soil will also be available. We look forward to seeing you!
URL:https://www.ashevillehabitat.org/event/earth-day-plant-swap/
LOCATION:Habitat ReStore\, 31 Meadow Road\, Asheville\, 28803\, United States
CATEGORIES:Celebration,Public Event,ReStore
GEO:35.569418;-82.546453
X-APPLE-STRUCTURED-LOCATION;VALUE=URI;X-ADDRESS=Habitat ReStore 31 Meadow Road Asheville 28803 United States;X-APPLE-RADIUS=500;X-TITLE=31 Meadow Road:geo:-82.546453,35.569418
END:VEVENT
BEGIN:VEVENT
DTSTART;TZID=America/New_York:20190427T080000
DTEND;TZID=America/New_York:20190427T140000
DTSTAMP:20260424T114935
CREATED:20190408T200631Z
LAST-MODIFIED:20190408T200631Z
UID:10000088-1556352000-1556373600@www.ashevillehabitat.org
SUMMARY:ReStore Pop-Up Shop
DESCRIPTION:Join us for a ReStore Pop-Up Shop at Gotta Have It Antiques Outdoor Market in Weaverville!  We’ll have a special selection of ReStore items for sale from 8am-2pm.
URL:https://www.ashevillehabitat.org/event/restore-pop-up-shop/
CATEGORIES:Public Event,ReStore,Sale
END:VEVENT
BEGIN:VEVENT
DTSTART;VALUE=DATE:20190430
DTEND;VALUE=DATE:20190501
DTSTAMP:20260424T114935
CREATED:20190408T202630Z
LAST-MODIFIED:20190408T202630Z
UID:10000091-1556582400-1556668799@www.ashevillehabitat.org
SUMMARY:Best of WNC voting ends!
DESCRIPTION:Have you voted in the Mountain Xpress Best of WNC?  We hope we can count on your vote! \nWrite in ReStore as best Used Furniture Store (nonprofit) and Asheville Habitats as Nonprofit That Improves Asheville. Thank you! \nRemember – voting ends April 30!
URL:https://www.ashevillehabitat.org/event/best-of-wnc-voting-ends/
END:VEVENT
BEGIN:VEVENT
DTSTART;TZID=America/New_York:20190518T090000
DTEND;TZID=America/New_York:20190518T180000
DTSTAMP:20260424T114935
CREATED:20190408T203236Z
LAST-MODIFIED:20190408T203236Z
UID:10000092-1558170000-1558202400@www.ashevillehabitat.org
SUMMARY:ReStore Spring Sale
DESCRIPTION:It’s ReStore Spring Sale time again! \nJoin staff and volunteers for free hot dogs and soft drinks from 12-2pm.  98.1 The River will be onsite from 9-11am\, plus enjoy 25% off storewide all day.
URL:https://www.ashevillehabitat.org/event/restore-spring-sale/
LOCATION:Habitat ReStore\, 31 Meadow Road\, Asheville\, 28803\, United States
CATEGORIES:Public Event,ReStore,Sale
GEO:35.569418;-82.546453
X-APPLE-STRUCTURED-LOCATION;VALUE=URI;X-ADDRESS=Habitat ReStore 31 Meadow Road Asheville 28803 United States;X-APPLE-RADIUS=500;X-TITLE=31 Meadow Road:geo:-82.546453,35.569418
END:VEVENT
BEGIN:VEVENT
DTSTART;TZID=America/New_York:20190601T173000
DTEND;TZID=America/New_York:20190601T233000
DTSTAMP:20260424T114935
CREATED:20190506T184600Z
LAST-MODIFIED:20190506T184600Z
UID:10000094-1559410200-1559431800@www.ashevillehabitat.org
SUMMARY:Built To Last - A Concert Benefiting Asheville Area Habitat For Humanity Featuring Andrew Scotchie & the River Rats
DESCRIPTION:Join AAHH\, Ambrose West\, and Andrew Scotchie & the River Rats for a benefit concert. \nWHEN: Saturday June 1st\, 2019 \nWHERE: Ambrose West 312 Haywood Road Asheville\, NC 28806 \nTICKETS: $40 VIP 1st 3 Rows Seated / $30 General Admission Seated / $20 Standing Room Only \nSEATING: Seated & Standing Room \nAGES: All \nDOORS FOR VIP MIXER: 5:30pm \nVIP MIXER: 5:30-7pm \nDOORS FOR SHOW: 7pm \nSHOW: 8pm \nAll ticket sale proceeds will be donated to the Asheville Area Habitat for Humanity as well as all other donations made at the event. \nEvent presented by Team Browne of Keller Williams Professionals and The Kim Winters Team of Movement Mortgage and Ambrose West.
URL:https://www.ashevillehabitat.org/event/built-to-last-a-concert-benefiting-asheville-area-habitat-for-humanity-featuring-andrew-scotchie-the-river-rats/
LOCATION:Ambrose West\, 312 Haywood Rd\, Asheville\, NC\, 28806
CATEGORIES:Benefit,Public Event
END:VEVENT
BEGIN:VEVENT
DTSTART;TZID=America/New_York:20190626T160000
DTEND;TZID=America/New_York:20190626T190000
DTSTAMP:20260424T114935
CREATED:20190614T190525Z
LAST-MODIFIED:20190614T190525Z
UID:10000178-1561564800-1561575600@www.ashevillehabitat.org
SUMMARY:Curry Court Open House
DESCRIPTION:Looking to buy an affordable home?  Know someone who is? \nJoin us Wednesday\, June 26 at 1 Curry Court in Candler to tour a Habitat townhome and see if our affordable homeownership program is right for you. \nDrop on in – we’ll be showing off our energy-efficient\, Green Built certified\, Arts & Crafts style homes from 4-7pm.
URL:https://www.ashevillehabitat.org/event/curry-court-open-house/
CATEGORIES:Public Event
END:VEVENT
BEGIN:VEVENT
DTSTART;TZID=America/New_York:20190712T090000
DTEND;TZID=America/New_York:20190712T140000
DTSTAMP:20260424T114935
CREATED:20190701T194058Z
LAST-MODIFIED:20190710T172348Z
UID:10000179-1562922000-1562940000@www.ashevillehabitat.org
SUMMARY:Blood Drive
DESCRIPTION:AAHH ReStore is hosting The Blood Connection for a summer blood drive. \nJoin us between 9am and 2pm to “be part of the connection.” Drop by or secure your spot in advance here: https://donate.thebloodconnection.org/donor/schedules/drive_schedule/126661 \nAll donors will receive a $20 gift card to the AAHH Restore! \n \n 
URL:https://www.ashevillehabitat.org/event/blood-drive/
LOCATION:Habitat ReStore\, 31 Meadow Road\, Asheville\, 28803\, United States
CATEGORIES:Blood Drive,Public Event,ReStore
GEO:35.569418;-82.546453
X-APPLE-STRUCTURED-LOCATION;VALUE=URI;X-ADDRESS=Habitat ReStore 31 Meadow Road Asheville 28803 United States;X-APPLE-RADIUS=500;X-TITLE=31 Meadow Road:geo:-82.546453,35.569418
END:VEVENT
BEGIN:VEVENT
DTSTART;VALUE=DATE:20190801
DTEND;VALUE=DATE:20190802
DTSTAMP:20260424T114935
CREATED:20190816T204020Z
LAST-MODIFIED:20190816T210640Z
UID:10000180-1564617600-1564703999@www.ashevillehabitat.org
SUMMARY:Annual ReStore ReUse Contest Begins
DESCRIPTION:Put your creativity hats on and show us how your repurpose\, reuse\, and upcycle!  5 categories of winners recognized.
URL:https://www.ashevillehabitat.org/event/annual-restore-reuse-contest/
CATEGORIES:ReStore
END:VEVENT
END:VCALENDAR