BEGIN:VCALENDAR
VERSION:2.0
PRODID:-//Asheville Habitat for Humanity - ECPv6.15.18//NONSGML v1.0//EN
CALSCALE:GREGORIAN
METHOD:PUBLISH
X-WR-CALNAME:Asheville Habitat for Humanity
X-ORIGINAL-URL:https://www.ashevillehabitat.org
X-WR-CALDESC:Events for Asheville Habitat for Humanity
REFRESH-INTERVAL;VALUE=DURATION:PT1H
X-Robots-Tag:noindex
X-PUBLISHED-TTL:PT1H
BEGIN:VTIMEZONE
TZID:UTC
BEGIN:STANDARD
TZOFFSETFROM:+0000
TZOFFSETTO:+0000
TZNAME:UTC
DTSTART:20170101T000000
END:STANDARD
END:VTIMEZONE
BEGIN:VEVENT
DTSTART;TZID=UTC:20180402T173000
DTEND;TZID=UTC:20180402T213000
DTSTAMP:20260420T121040
CREATED:20180305T050000Z
LAST-MODIFIED:20181220T160536Z
UID:10000055-1522690200-1522704600@www.ashevillehabitat.org
SUMMARY:Japanese Country Cooking Volume III
DESCRIPTION:Blind Pig Supper Club is dedicating their Japanese Country Cooking Pop-Up to Asheville Habitat! \nCheck out the fine cooking of The Blind Pig chefs\, share a meal with friends and support affordable housing in our community. \nTickets are available here with prices ranging from $25 to $90.  Once you purchase your ticket\, you’ll be contacted via email with the super-secret\, underground location of the Pop Up Supper.
URL:https://www.ashevillehabitat.org/event/japanese-country-cooking-volume-iii/
CATEGORIES:Benefit
ATTACH;FMTTYPE=image/jpeg:https://www.ashevillehabitat.org/wp-content/uploads/2018/12/jcc.jpg
END:VEVENT
BEGIN:VEVENT
DTSTART;TZID=UTC:20180417T153000
DTEND;TZID=UTC:20180417T163000
DTSTAMP:20260420T121040
CREATED:20180417T040000Z
LAST-MODIFIED:20181220T160540Z
UID:10000145-1523979000-1523982600@www.ashevillehabitat.org
SUMMARY:5 House Dedication
DESCRIPTION:Enjoy an afternoon ice cream followed by a very special celebration dedicating homes to 5 new homeowner families in our Arden Neighborhood: \nLocal Presbyterian and United Methodist Churches  ~  The Nikita Norris and Regina Hunter Family \nLocal Interfaith Community / Ed & Patty Prestemon in memory of Jules and Eleanor Deyden   ~  The Lindsay Parrott Family \nMaccie’s Place  ~  The Melania Moyski Family \nThe House that Beer Built  ~  The Karen Chrisman Family \nThe W&S Charitable Foundation with proceeds from the Annual Christmas Jam with Warren Haynes and Stefani Scamardo  ~  The Shaneise Hutchinson Family
URL:https://www.ashevillehabitat.org/event/5-house-dedication/
CATEGORIES:Celebration,Key Presentation,Public Event
END:VEVENT
BEGIN:VEVENT
DTSTART;TZID=UTC:20180424T100000
DTEND;TZID=UTC:20180424T190000
DTSTAMP:20260420T121040
CREATED:20180404T040000Z
LAST-MODIFIED:20181220T160537Z
UID:10000143-1524564000-1524596400@www.ashevillehabitat.org
SUMMARY:10% for Habitat at Frugal Backpacker
DESCRIPTION:Each month\, Frugal Backpacker donates 10% of a day’s sales to support a local nonprofit’s work. Shop on Tuesday\, April 24\, to support Asheville Area Habitat for Humanity. \nFrugal Backpacker is the area’s first outdoor store.  They say you can “call it civic pride or mountain spirit\, but we think supporting the work of those maintaining trails\, cleaning waterways\, connecting youth to outdoors\, and doing other awesome things to keep WNC a place we can all enjoy…well\, it’s the right thing to do.” \nWe agree!  Gear up for spring\, summer or whenever you take yourself to the great outdoors.  While you’re at it\, you’ll help local families find safe\, affordable places to call HOME. \n#SpendLess #PlayMore
URL:https://www.ashevillehabitat.org/event/9350/
CATEGORIES:Public Event
END:VEVENT
BEGIN:VEVENT
DTSTART;TZID=UTC:20180426T160000
DTEND;TZID=UTC:20180426T200000
DTSTAMP:20260420T121040
CREATED:20180417T040000Z
LAST-MODIFIED:20181220T160537Z
UID:10000144-1524758400-1524772800@www.ashevillehabitat.org
SUMMARY:New Belgium pouring for the House That Beer Built
DESCRIPTION:New Belgium will be donating a portion of sales to the House That Beer Built\, currently under construction in Arden.  \nAAHH Staff will be there with an information table and studs to be signed.  \nKaren\, the future homeowner of that house will also be there so come out and say “Congratulations!”
URL:https://www.ashevillehabitat.org/event/new-belgium-pouring-for-the-house-that-beer-built/
CATEGORIES:Public Event
ATTACH;FMTTYPE=image/jpeg:https://www.ashevillehabitat.org/wp-content/uploads/2018/12/New-Belgium_12.16.17.jpg
END:VEVENT
BEGIN:VEVENT
DTSTART;TZID=UTC:20180428T090000
DTEND;TZID=UTC:20180428T090000
DTSTAMP:20260420T121040
CREATED:20180423T040000Z
LAST-MODIFIED:20181220T160542Z
UID:10000147-1524906000-1524906000@www.ashevillehabitat.org
SUMMARY:AAHH Women Build and Lowe's join forces for FREE interior/exterior painting clinic!
DESCRIPTION: 
URL:https://www.ashevillehabitat.org/event/aahh-women-build-and-lowes-join-forces-for-free-interior-exterior-painting-clinic/
LOCATION:A empty field to 21 homes\, a thriving community
CATEGORIES:Public Event
ATTACH;FMTTYPE=image/jpeg:https://www.ashevillehabitat.org/wp-content/uploads/2018/12/clinic-flyer-small.jpg
END:VEVENT
END:VCALENDAR