BEGIN:VCALENDAR
VERSION:2.0
PRODID:-//Asheville Habitat for Humanity - ECPv6.15.18//NONSGML v1.0//EN
CALSCALE:GREGORIAN
METHOD:PUBLISH
X-ORIGINAL-URL:https://www.ashevillehabitat.org
X-WR-CALDESC:Events for Asheville Habitat for Humanity
REFRESH-INTERVAL;VALUE=DURATION:PT1H
X-Robots-Tag:noindex
X-PUBLISHED-TTL:PT1H
BEGIN:VTIMEZONE
TZID:America/New_York
BEGIN:DAYLIGHT
TZOFFSETFROM:-0500
TZOFFSETTO:-0400
TZNAME:EDT
DTSTART:20240310T070000
END:DAYLIGHT
BEGIN:STANDARD
TZOFFSETFROM:-0400
TZOFFSETTO:-0500
TZNAME:EST
DTSTART:20241103T060000
END:STANDARD
BEGIN:DAYLIGHT
TZOFFSETFROM:-0500
TZOFFSETTO:-0400
TZNAME:EDT
DTSTART:20250309T070000
END:DAYLIGHT
BEGIN:STANDARD
TZOFFSETFROM:-0400
TZOFFSETTO:-0500
TZNAME:EST
DTSTART:20251102T060000
END:STANDARD
BEGIN:DAYLIGHT
TZOFFSETFROM:-0500
TZOFFSETTO:-0400
TZNAME:EDT
DTSTART:20260308T070000
END:DAYLIGHT
BEGIN:STANDARD
TZOFFSETFROM:-0400
TZOFFSETTO:-0500
TZNAME:EST
DTSTART:20261101T060000
END:STANDARD
END:VTIMEZONE
BEGIN:VEVENT
DTSTART;TZID=America/New_York:20250517T090000
DTEND;TZID=America/New_York:20250517T180000
DTSTAMP:20260424T070747
CREATED:20250331T184552Z
LAST-MODIFIED:20250331T185911Z
UID:10000242-1747472400-1747504800@www.ashevillehabitat.org
SUMMARY:AVL ReStore Spring Sale
DESCRIPTION:Once again\, we’re thanking our customers with a 25% storewide Spring Sale. From furniture and appliances to housewares and books\, there is sure to be something you’re seeking and determine you just can’t live without. And you can feel good about your purchases because ReStore proceeds help build and repair homes in our community.
URL:https://www.ashevillehabitat.org/event/avl-restore-spring-sale-3/
LOCATION:Asheville Habitat ReStore\, 31 Meadow Rd.\, Asheville\, NC\, 28803
CATEGORIES:Public Event,ReStore,Sale
END:VEVENT
BEGIN:VEVENT
DTSTART;TZID=America/New_York:20250517T183000
DTEND;TZID=America/New_York:20250517T203000
DTSTAMP:20260424T070747
CREATED:20250331T185548Z
LAST-MODIFIED:20250410T140639Z
UID:10000243-1747506600-1747513800@www.ashevillehabitat.org
SUMMARY:Rock the House-- for Women Build
DESCRIPTION:Join us for Rock the House\, an annual Women Build Fundraiser! Festivities will include live music\, dancing\, light food & drink\, a cash bar\, and lots of ways to support the construction of Women Build House #21. This house will be a beautiful\, affordable\, Green Built home in Glenn Bridge\, Habitat’s growing neighborhood in Arden. \nSecure for ticket here. \nFree\, donations suggested.
URL:https://www.ashevillehabitat.org/event/rock-the-house-for-women-build/
LOCATION:The Mule at Devil’s Foot Beverage\, 131 Sweeten Creek Rd\, Asheville\, NC\, 28803
CATEGORIES:Benefit,Public Event
END:VEVENT
END:VCALENDAR