BEGIN:VCALENDAR
VERSION:2.0
PRODID:-//Asheville Habitat for Humanity - ECPv6.15.18//NONSGML v1.0//EN
CALSCALE:GREGORIAN
METHOD:PUBLISH
X-ORIGINAL-URL:https://www.ashevillehabitat.org
X-WR-CALDESC:Events for Asheville Habitat for Humanity
REFRESH-INTERVAL;VALUE=DURATION:PT1H
X-Robots-Tag:noindex
X-PUBLISHED-TTL:PT1H
BEGIN:VTIMEZONE
TZID:America/New_York
BEGIN:DAYLIGHT
TZOFFSETFROM:-0500
TZOFFSETTO:-0400
TZNAME:EDT
DTSTART:20240310T070000
END:DAYLIGHT
BEGIN:STANDARD
TZOFFSETFROM:-0400
TZOFFSETTO:-0500
TZNAME:EST
DTSTART:20241103T060000
END:STANDARD
BEGIN:DAYLIGHT
TZOFFSETFROM:-0500
TZOFFSETTO:-0400
TZNAME:EDT
DTSTART:20250309T070000
END:DAYLIGHT
BEGIN:STANDARD
TZOFFSETFROM:-0400
TZOFFSETTO:-0500
TZNAME:EST
DTSTART:20251102T060000
END:STANDARD
BEGIN:DAYLIGHT
TZOFFSETFROM:-0500
TZOFFSETTO:-0400
TZNAME:EDT
DTSTART:20260308T070000
END:DAYLIGHT
BEGIN:STANDARD
TZOFFSETFROM:-0400
TZOFFSETTO:-0500
TZNAME:EST
DTSTART:20261101T060000
END:STANDARD
END:VTIMEZONE
BEGIN:VEVENT
DTSTART;TZID=America/New_York:20250124T180000
DTEND;TZID=America/New_York:20250124T210000
DTSTAMP:20260423T140421
CREATED:20250109T181353Z
LAST-MODIFIED:20250109T181353Z
UID:10000238-1737741600-1737752400@www.ashevillehabitat.org
SUMMARY:Mercy in the Mountains
DESCRIPTION:Mercy in The Mountains brings out local talent including David Lamotte and others for an evening of great music and community celebration! Join us on Friday\, January 24th from 6-9pm at The Mule. Proceeds benefit ARCHR and Asheville Habitat’s Disaster Home Repair program. \nTickets are $15-$50 Sliding Scale Donation\, and will be available on Eventbrite soon! Stay tuned here for updates. \nAll Ages. \n \n 
URL:https://www.ashevillehabitat.org/event/mercy-in-the-mountains/
LOCATION:The Mule\, 131 Sweeten Creek Road\, Asheville\, NC\, 28803\, United States
CATEGORIES:Benefit,Public Event
END:VEVENT
END:VCALENDAR