BEGIN:VCALENDAR
VERSION:2.0
PRODID:-//Asheville Habitat for Humanity - ECPv6.15.18//NONSGML v1.0//EN
CALSCALE:GREGORIAN
METHOD:PUBLISH
X-WR-CALNAME:Asheville Habitat for Humanity
X-ORIGINAL-URL:https://www.ashevillehabitat.org
X-WR-CALDESC:Events for Asheville Habitat for Humanity
REFRESH-INTERVAL;VALUE=DURATION:PT1H
X-Robots-Tag:noindex
X-PUBLISHED-TTL:PT1H
BEGIN:VTIMEZONE
TZID:America/New_York
BEGIN:DAYLIGHT
TZOFFSETFROM:-0500
TZOFFSETTO:-0400
TZNAME:EDT
DTSTART:20190310T070000
END:DAYLIGHT
BEGIN:STANDARD
TZOFFSETFROM:-0400
TZOFFSETTO:-0500
TZNAME:EST
DTSTART:20191103T060000
END:STANDARD
BEGIN:DAYLIGHT
TZOFFSETFROM:-0500
TZOFFSETTO:-0400
TZNAME:EDT
DTSTART:20200308T070000
END:DAYLIGHT
BEGIN:STANDARD
TZOFFSETFROM:-0400
TZOFFSETTO:-0500
TZNAME:EST
DTSTART:20201101T060000
END:STANDARD
BEGIN:DAYLIGHT
TZOFFSETFROM:-0500
TZOFFSETTO:-0400
TZNAME:EDT
DTSTART:20210314T070000
END:DAYLIGHT
BEGIN:STANDARD
TZOFFSETFROM:-0400
TZOFFSETTO:-0500
TZNAME:EST
DTSTART:20211107T060000
END:STANDARD
END:VTIMEZONE
BEGIN:VEVENT
DTSTART;TZID=America/New_York:20200329T110000
DTEND;TZID=America/New_York:20200329T210000
DTSTAMP:20260424T071729
CREATED:20200226T172240Z
LAST-MODIFIED:20200317T180443Z
UID:10000205-1585479600-1585515600@www.ashevillehabitat.org
SUMMARY:Dine for Habitat at Rezaz-CANCELLED
DESCRIPTION:All day dine out: 20% of Rezaz daily proceeds go to Asheville Habitat for Humanity. \nBrunch 11am-2pm and dinner 5-9pm.
URL:https://www.ashevillehabitat.org/event/dine-for-habitat-at-rezaz/
LOCATION:Rezaz\, 28 Hendersonville Rd\, Asheville\, 28803
GEO:35.5676874;-82.5436774
X-APPLE-STRUCTURED-LOCATION;VALUE=URI;X-ADDRESS=Rezaz 28 Hendersonville Rd Asheville 28803;X-APPLE-RADIUS=500;X-TITLE=28 Hendersonville Rd:geo:-82.5436774,35.5676874
END:VEVENT
END:VCALENDAR