BEGIN:VCALENDAR
VERSION:2.0
PRODID:-//Asheville Habitat for Humanity - ECPv6.15.18//NONSGML v1.0//EN
CALSCALE:GREGORIAN
METHOD:PUBLISH
X-WR-CALNAME:Asheville Habitat for Humanity
X-ORIGINAL-URL:https://www.ashevillehabitat.org
X-WR-CALDESC:Events for Asheville Habitat for Humanity
REFRESH-INTERVAL;VALUE=DURATION:PT1H
X-Robots-Tag:noindex
X-PUBLISHED-TTL:PT1H
BEGIN:VTIMEZONE
TZID:UTC
BEGIN:STANDARD
TZOFFSETFROM:+0000
TZOFFSETTO:+0000
TZNAME:UTC
DTSTART:20170101T000000
END:STANDARD
END:VTIMEZONE
BEGIN:VEVENT
DTSTART;TZID=UTC:20180723T080000
DTEND;TZID=UTC:20180801T170000
DTSTAMP:20260423T154052
CREATED:20180723T040000Z
LAST-MODIFIED:20181220T160549Z
UID:10000155-1532332800-1533142800@www.ashevillehabitat.org
SUMMARY:Backpack To The Future at AAHH ReStore
DESCRIPTION:The AAHH ReStore is hosting a backpack and school supply drive for HandsOn-Asheville/United Way \nHelp area school children get a hand up on this year.  Donate items from the list or better yet… buy and fill a new backpack with the following: \n· New backpack                    · 2 composition books            · Loose-leaf notebook paper \n· 2-3 spiral notebooks            · Ruler                          · 2-pocket folders \n· Box of #2 pencils               · Pencil pouch or art box        · Package of erasers \n· 3-ring binder (1½ – 2 inch)     · Bottle of glue or glue stick   · Markers (washable) \n· Crayons                         · Small hand sanitizer \nDonation bin is located in the lower showroom of the ReStore until August 1.
URL:https://www.ashevillehabitat.org/event/backpack-to-the-future-at-aahh-restore/
LOCATION:Photo-Dec-11-2-57-03-PM-1030×773
CATEGORIES:Public Event,ReStore,Supply Drive
ATTACH;FMTTYPE=image/png:https://www.ashevillehabitat.org/wp-content/uploads/2018/12/backpack-to-the-future.png
END:VEVENT
END:VCALENDAR