BEGIN:VCALENDAR
VERSION:2.0
PRODID:-//Asheville Habitat for Humanity - ECPv6.15.18//NONSGML v1.0//EN
CALSCALE:GREGORIAN
METHOD:PUBLISH
X-WR-CALNAME:Asheville Habitat for Humanity
X-ORIGINAL-URL:https://www.ashevillehabitat.org
X-WR-CALDESC:Events for Asheville Habitat for Humanity
REFRESH-INTERVAL;VALUE=DURATION:PT1H
X-Robots-Tag:noindex
X-PUBLISHED-TTL:PT1H
BEGIN:VTIMEZONE
TZID:UTC
BEGIN:STANDARD
TZOFFSETFROM:+0000
TZOFFSETTO:+0000
TZNAME:UTC
DTSTART:20170101T000000
END:STANDARD
END:VTIMEZONE
BEGIN:VEVENT
DTSTART;TZID=UTC:20180722T140000
DTEND;TZID=UTC:20180722T170000
DTSTAMP:20260423T154051
CREATED:20180710T040000Z
LAST-MODIFIED:20181220T160548Z
UID:10000153-1532268000-1532278800@www.ashevillehabitat.org
SUMMARY:First Annual Cookie Chill Off
DESCRIPTION:Join us at TreeRock Social for the first Annual Cookie Chill Off! \nThis is a charity event to help support Habitat for Humanity’s Women Build House \nTasting fee $5.  There will be a kids category (7-12) and a gluten free category amongst others. \nPrizes will be awarded for the best of each category as well as to the overall winner! \nLuscious Liquor Ice Cream will provide ice cream for all ages at the event.
URL:https://www.ashevillehabitat.org/event/first-annual-cookie-chill-off/
CATEGORIES:Public Event
ATTACH;FMTTYPE=image/png:https://www.ashevillehabitat.org/wp-content/uploads/2018/12/TreeRock-Social-Cider-Logo.png
END:VEVENT
END:VCALENDAR